BEGIN:VCALENDAR
VERSION:2.0
PRODID:-//ESSE Musicbar Winterthur//NONSGML kigkonsult.se iCalcreator 2.41.92//
CALSCALE:GREGORIAN
METHOD:PUBLISH
UID:36396130-6230-4361-b733-393433313738
X-WR-CALNAME:iCagenda
X-WR-CALDESC:Event Management Extension for Joomla!
X-WR-RELCALID:3E26604A-50F4-4449-8B3E-E4F4932D05B5
X-WR-TIMEZONE:Europe/Zurich
BEGIN:VTIMEZONE
TZID:Europe/Zurich
TZUNTIL:20241027T010000Z
BEGIN:STANDARD
TZNAME:CET
DTSTART:20221030T030000
TZOFFSETFROM:+0200
TZOFFSETTO:+0100
RDATE:20231029T030000
END:STANDARD
BEGIN:DAYLIGHT
TZNAME:CEST
DTSTART:20220327T020000
TZOFFSETFROM:+0100
TZOFFSETTO:+0200
RDATE:20230326T020000
RDATE:20240331T020000
END:DAYLIGHT
END:VTIMEZONE
BEGIN:VEVENT
UID:35396631-3964-4462-b336-366261346230
DTSTAMP:20260419T163836Z
CATEGORIES:Jazz Jam Point Session
CLASS:PUBLIC
DESCRIPTION;ALTREP="CID:<FFFF__=0ABBE548DFE235B58f9e8a93d@coffeebean.com>":
 Im Rahmen unserer Reihe Jam-Point meets Jam-Jazz-Clubs aus der näheren und
  weiteren Umgebung freuen wir uns\, zu unserer nächsten Session in der Ess
 e Musicbar Winterthur einzuladen.\n“Special guest-club”: Jazz Circle Höngg
  (“der einzige Old Time Jazz Club in Zürich”) www.jazzinhoengg.ch\nDie zwe
 i Vorstandsmitglieder Miro Steiner\, tb\, Präsident und Ivan Kubias\, tp\,
  Programmkommission vertreten den Gast-Klub\, welcher dieses Jahr das 20jä
 hrige Bestehen feiert. Seit 2003 besteht der Verein\, welcher zum Zweck ha
 t\, das Kulturgeschehen in Höngg mit Jazzkonzerten\, Sessions und weiteren
  Events des traditionellen Jazz zu bereichern. Zu diesem Jubiläum gratulie
 ren wir herzlich und freuen uns doppelt\, mit unserem Event einen kleinen 
 Beitrag zum Jubiläumsjahr beitragen zu können.\n“When my dreamboat comes h
 ome”\nMit diesem 1936 von Dave Franklin und Cliff Friend geschriebenen Son
 g begrüssen die beiden Musiker zusammen mit ihren Kollegen der Grundformat
 ion des Jazz Circle Höngg jeweils die Zuhörer ihrer Konzerte\, die meist i
 n der Gartenschür des Restaurants Grünwald in Höngg/Zürich stattfinden. Mi
 t diesem Eröffnungslied beginnen auch wir die Vorstellung unserer Gäste\, 
 die sich im Übrigen selbst musikalisch und verbal einführen werden während
  der ersten paar Nummern. Anschliessend wird wie üblich der offene Jam beg
 innen und wir hoffen sehr\, dass viele Musikerinnen und Musiker den Weg zu
 r Esse finden werden. Das Programm der Jamsession wird von Euch bestimmt u
 nd trotz der dieses Mal zu Beginn etwas stärkeren Ausrichtung auf den trad
 itionellen Jazz erwarten wir wie üblich eine breite Palette von Stilen\, R
 hythmen und Stimmungen.\nNatürlich hoffen wir auch sehr gerne auf möglichs
 t viele Zuhörerinnen und Zuhörer und versprechen ein breit gefächertes Pro
 gramm mit vielen Höhepunkten und natürlich wie gewohnt mit wahnsinnig swin
 gendem und überwältigend groovendem Sound.\nEs empfiehlt sich\, die Sitzpl
 ätze zu reservieren unter folgendem Link: www.esse-musicbar.ch\nOffizielle
  Webseite: www.jam-point.ch
DTSTART:20230301T190000Z
DTEND:20230301T190000Z
GEO:00;0
LOCATION:
ORGANIZER:
SEQUENCE:1
SUMMARY:Jazz Jam feat. Jazz Circle Höngg
TRANSP:OPAQUE
URL:https://www.esse.bar/index.php/veranstaltungen/vergangene-veranstaltung
 en/1780-privatanlass-114/2023-03-01-20-00
END:VEVENT
END:VCALENDAR
