BEGIN:VCALENDAR
VERSION:2.0
PRODID:-//ESSE Musicbar Winterthur//NONSGML kigkonsult.se iCalcreator 2.41.92//
CALSCALE:GREGORIAN
METHOD:PUBLISH
UID:65393334-3730-4664-a138-393830383663
X-WR-CALNAME:iCagenda
X-WR-CALDESC:Event Management Extension for Joomla!
X-WR-RELCALID:3E26604A-50F4-4449-8B3E-E4F4932D05B5
X-WR-TIMEZONE:Europe/Zurich
BEGIN:VTIMEZONE
TZID:Europe/Zurich
TZUNTIL:20250330T010000Z
BEGIN:STANDARD
TZNAME:CET
DTSTART:20221030T030000
TZOFFSETFROM:+0200
TZOFFSETTO:+0100
RDATE:20231029T030000
RDATE:20241027T030000
END:STANDARD
BEGIN:DAYLIGHT
TZNAME:CEST
DTSTART:20230326T020000
TZOFFSETFROM:+0100
TZOFFSETTO:+0200
RDATE:20240331T020000
END:DAYLIGHT
END:VTIMEZONE
BEGIN:VEVENT
UID:33663535-3835-4637-a437-383035653838
DTSTAMP:20260419T132654Z
CATEGORIES:In eigener Sache
CLASS:PUBLIC
DESCRIPTION;ALTREP="CID:<FFFF__=0ABBE548DFE235B58f9e8a93d@coffeebean.com>":
 Der neue Markt für Winterthur – von Omas alter Wöschzeine bis zum wohlgest
 alteten Sideboard – mit Essen\, Trinken\, Lachen\, Musik und allem was man
  liebt – mit Dir und Deinem Herzblutprojekt\nEin Fest der Möglichkeiten – 
 was auch immer Dich bewegt – hier ist die Plattform um es der Welt zu präs
 entieren – jeden ersten Sommer-Samstag im Monat auf dem Zeughaus-Areal in 
 Winterthur\nAm 3. Juni\, 8. Juli\, 5. August\, 2. September und 7. Oktober
 \, von 9–17 Uhr wandelt sich das Zeughaus-Areal in einen bunten Marktplatz
  für Flohmi-Schätze\, Hofprodukte und spannende Objekte von Kreativschaffe
 nden und innovativen Kleinproduzenten aus der Region – bring Deine Leidens
 chaft\, Deine Mundharmonika oder Deinen Pizzaofen – ob mit Verkaufstheke\,
  Koffer\, direkt vom Veloanhänger oder aus dem Lieferwagen – alle sind wil
 lkommen\nWir freuen uns auf Dich!\nHier geht's zum Anmeldeformular für ein
 en Standplatz | Flyer (PDF)
DTSTART:20230603T070000Z
DTEND:20230603T150000Z
GEO:00;0
LOCATION:
ORGANIZER:
SEQUENCE:1
SUMMARY:ZEUGHAUS-MARKT
TRANSP:OPAQUE
URL:https://www.esse.bar/index.php/veranstaltungen/vergangene-veranstaltung
 en/1783-zeughaus-markt
END:VEVENT
END:VCALENDAR
