BEGIN:VCALENDAR
VERSION:2.0
PRODID:-//ESSE Musicbar Winterthur//NONSGML kigkonsult.se iCalcreator 2.41.92//
CALSCALE:GREGORIAN
METHOD:PUBLISH
UID:33373865-6564-4061-b439-626134393734
X-WR-CALNAME:iCagenda
X-WR-CALDESC:Event Management Extension for Joomla!
X-WR-RELCALID:3E26604A-50F4-4449-8B3E-E4F4932D05B5
X-WR-TIMEZONE:Europe/Zurich
BEGIN:VTIMEZONE
TZID:Europe/Zurich
TZUNTIL:20250330T010000Z
BEGIN:STANDARD
TZNAME:CET
DTSTART:20221030T030000
TZOFFSETFROM:+0200
TZOFFSETTO:+0100
RDATE:20231029T030000
RDATE:20241027T030000
END:STANDARD
BEGIN:DAYLIGHT
TZNAME:CEST
DTSTART:20230326T020000
TZOFFSETFROM:+0100
TZOFFSETTO:+0200
RDATE:20240331T020000
END:DAYLIGHT
END:VTIMEZONE
BEGIN:VEVENT
UID:32623261-6339-4634-a531-636533306538
DTSTAMP:20260419T135143Z
CATEGORIES:Folk & More
CLASS:PUBLIC
DESCRIPTION;ALTREP="CID:<FFFF__=0ABBE548DFE235B58f9e8a93d@coffeebean.com>":
 «Was für eine Stimme» – das denkt jeder\, der Suzie Candell hört. Sie hat 
 alles\, was eine Sängerin und Songwriterin auf internationalem Niveau ausm
 acht: Ausdrucksstärke\, Tiefgang und mitreissende eigene Songs. Ihre Musik
  ist ein perfekter Mix aus Country\, Blues\, Folk\, Rock und Pop. Ehrlich\
 , handgemacht und mit einer gehörigen Portion Emotionen.\nNach zwei veröff
 entlichten Studio-Alben steht sie nun mit ihrer neuen EP «Flames» und fünf
  frischen Songs in den Startlöchern: Eingespielt von ihrer sechsköpfigen L
 ive-Formation «Suzie Candell and the Screwdrivers»\, welche diese einzigar
 tige Americana-Musik seit über 10 Jahren fulminant auf die Bühne bringen. 
 Dass hier absolute Vollprofis zusammen Musik machen\, hört man bei jedem T
 on und nicht selten sind nach Konzerten Sätze zu lesen wie: «Suzie Candell
  kann ohne Wenn und Aber\, in eine Reihe mit den Country-Stars gestellt we
 rden\, die mit ihrer Musik als „Keeper of the flame“\, das reiche Erbe des
  Genres nicht nur bewahren helfen\, sondern auch absolut hörenswert und ze
 itgemäss weitertragen.»\nMit dreistimmigen Gesängen\, E-Gitarre\, Pedal-St
 eel\, Schlagzeug und Bass ist ein facettenreiches Konzerterlebnis garantie
 rt. Das Publikum ist sich einig: eine Wucht.\nSuzie Candell (voc\, ag)\, B
 eth Wimmer (bcoc\, ag)\, Roger Szedalik (eg\, bvoc)\, Thomas Marmier (eg\,
  pedal steel)\, Dominic Benz (b)\, Lukas Landis (dr)\nhttps://www.suziecan
 dell.com
DTSTART:20230514T173000Z
DTEND:20230514T173000Z
GEO:00;0
LOCATION:
ORGANIZER:
SEQUENCE:1
SUMMARY:Suzie Candell & The Screwdrivers – «Flames»
TRANSP:OPAQUE
URL:https://www.esse.bar/index.php/veranstaltungen/vergangene-veranstaltung
 en/1789-suzi-candell-the-screwdrivers/2023-05-14-19-30
END:VEVENT
END:VCALENDAR
