BEGIN:VCALENDAR
VERSION:2.0
PRODID:-//ESSE Musicbar Winterthur//NONSGML kigkonsult.se iCalcreator 2.41.92//
CALSCALE:GREGORIAN
METHOD:PUBLISH
UID:35313932-6461-4666-b937-323164353764
X-WR-CALNAME:iCagenda
X-WR-CALDESC:Event Management Extension for Joomla!
X-WR-RELCALID:3E26604A-50F4-4449-8B3E-E4F4932D05B5
X-WR-TIMEZONE:Europe/Zurich
BEGIN:VTIMEZONE
TZID:Europe/Zurich
TZUNTIL:20241027T010000Z
BEGIN:STANDARD
TZNAME:CET
DTSTART:20221030T030000
TZOFFSETFROM:+0200
TZOFFSETTO:+0100
RDATE:20231029T030000
END:STANDARD
BEGIN:DAYLIGHT
TZNAME:CEST
DTSTART:20220327T020000
TZOFFSETFROM:+0100
TZOFFSETTO:+0200
RDATE:20230326T020000
RDATE:20240331T020000
END:DAYLIGHT
END:VTIMEZONE
BEGIN:VEVENT
UID:64313662-6435-4162-b330-396363333433
DTSTAMP:20260419T153912Z
CATEGORIES:Jazz
CLASS:PUBLIC
DESCRIPTION;ALTREP="CID:<FFFF__=0ABBE548DFE235B58f9e8a93d@coffeebean.com>":
 Ein Konzert des «Trio Celebración» ist mehr als einfach nur eine Hommage a
 n den argentinischen Komponisten Leopoldo Federico. Vielmehr wird versucht
 \, voller Herzlichkeit ein Porträt von Leopoldo Federico zu malen. Jedes a
 ufgeführte Stück bezieht sich auf einen bestimmten Punkt von dessen langer
  Karriere. Dabei kommen auch seine Grosszügigkeit und tiefe Menschlichkeit
  zum Ausdruck.\nUm Federico zu feiern\, hat der französische Bandoneonist 
 William Sabatier ein ungewöhnliches\, kraftvolles Trio gegründet. An seine
 r Seite finden wir mit Leonardo Ferreyra einen der bedeutendsten argentini
 schen Tango-Geiger der Gegenwart\, sowie den glänzenden französischen Kont
 rabassisten Romain Lécuyer. Dieses Trio interpretiert mit offensichtlicher
  Freude die Partituren des Maestros.\nWilliam Sabatier (Bandoneon)\, Leona
 rdo Ferreyra (Violine)\, Romain Lécuyer (Kontrabass)\nhttps://de.wikipedia
 .org/wiki/Leopoldo_Federicohttp://www.williamsabatier.comhttps://www.leona
 rdoferreyra.net\n 
DTSTART:20230324T191500Z
DTEND:20230324T191500Z
GEO:00;0
LOCATION:
ORGANIZER:
SEQUENCE:1
SUMMARY:Trio Celebración – Hommage an Leopoldo Federico
TRANSP:OPAQUE
URL:https://www.esse.bar/index.php/veranstaltungen/vergangene-veranstaltung
 en/1790-trio-celebracion-ok/2023-03-24-20-15
END:VEVENT
END:VCALENDAR
