BEGIN:VCALENDAR
VERSION:2.0
PRODID:-//ESSE Musicbar Winterthur//NONSGML kigkonsult.se iCalcreator 2.41.92//
CALSCALE:GREGORIAN
METHOD:PUBLISH
UID:64353734-6262-4066-a638-643538643638
X-WR-CALNAME:iCagenda
X-WR-CALDESC:Event Management Extension for Joomla!
X-WR-RELCALID:3E26604A-50F4-4449-8B3E-E4F4932D05B5
X-WR-TIMEZONE:Europe/Zurich
BEGIN:VTIMEZONE
TZID:Europe/Zurich
TZUNTIL:20241027T010000Z
BEGIN:STANDARD
TZNAME:CET
DTSTART:20221030T030000
TZOFFSETFROM:+0200
TZOFFSETTO:+0100
RDATE:20231029T030000
END:STANDARD
BEGIN:DAYLIGHT
TZNAME:CEST
DTSTART:20230326T020000
TZOFFSETFROM:+0100
TZOFFSETTO:+0200
RDATE:20240331T020000
END:DAYLIGHT
END:VTIMEZONE
BEGIN:VEVENT
UID:35623861-3336-4638-a465-613439643861
DTSTAMP:20260419T152135Z
CATEGORIES:Jazz
CLASS:PUBLIC
DESCRIPTION;ALTREP="CID:<FFFF__=0ABBE548DFE235B58f9e8a93d@coffeebean.com>":
 Nach diversen Umbesetzungen hat das Nähmaschinen Quartett mit seinem dritt
 en Studioalbum «Times»\, welches demnächst erscheinen wird\, nun endgültig
  seinen Sound gefunden: das unverwechselbare Duett aus Saxophon und Gitarr
 e wurde zum Markenzeichen des jungen Münchner Quartetts.\nMit «Times» bric
 ht daher\, wenn man so will\, eine neue Ära in der bereits achtjährigen Ge
 schichte des Quartetts um Gitarrist Simon Harscheidt an. Es ist gleichzeit
 ig eine Reflexion über das bisher Geschehene\, Verarbeitung der Corona-Pan
 demie und ihrer Folgen sowie persönlicher Momente und Stimmungen aus dem L
 eben Harscheidts.\nIn Anlehnung an Vorbilder wie John Scofield und Julian 
 Lage geht der gebürtige Essener hier seinen eigenen musikalischen Weg — eh
 rlich\, direkt\, klar. Das übergeordnete Ziel des Komponisten hat sich sei
 t Beginn nicht geändert: die Melodien seiner Songs sollen schön und eingän
 gig sein. Wieso sollte zeitgenössischer instrumentaler Jazz nicht auch Ohr
 würmer erzeugen können?\nAlosha Uysal (ss)\, Simon Harscheidt (g)\, Stanis
 law Sandronov (b)\, Simon Japha (dr)\nhttps://www.naehmaschinenquartett.co
 m
DTSTART:20230413T181500Z
DTEND:20230413T181500Z
GEO:00;0
LOCATION:
ORGANIZER:
SEQUENCE:1
SUMMARY:Nähmaschinen Quartett – «Times»
TRANSP:OPAQUE
URL:https://www.esse.bar/index.php/veranstaltungen/vergangene-veranstaltung
 en/1791-naehmaschinen-quartett-times/2023-04-13-20-15
END:VEVENT
END:VCALENDAR
