BEGIN:VCALENDAR
VERSION:2.0
PRODID:-//ESSE Musicbar Winterthur//NONSGML kigkonsult.se iCalcreator 2.41.92//
CALSCALE:GREGORIAN
METHOD:PUBLISH
UID:38313133-3332-4461-b237-623366343934
X-WR-CALNAME:iCagenda
X-WR-CALDESC:Event Management Extension for Joomla!
X-WR-RELCALID:3E26604A-50F4-4449-8B3E-E4F4932D05B5
X-WR-TIMEZONE:Europe/Zurich
BEGIN:VTIMEZONE
TZID:Europe/Zurich
TZUNTIL:20241027T010000Z
BEGIN:STANDARD
TZNAME:CET
DTSTART:20221030T030000
TZOFFSETFROM:+0200
TZOFFSETTO:+0100
RDATE:20231029T030000
END:STANDARD
BEGIN:DAYLIGHT
TZNAME:CEST
DTSTART:20220327T020000
TZOFFSETFROM:+0100
TZOFFSETTO:+0200
RDATE:20230326T020000
RDATE:20240331T020000
END:DAYLIGHT
END:VTIMEZONE
BEGIN:VEVENT
UID:64343330-6434-4163-a561-646331613966
DTSTAMP:20260419T151108Z
CATEGORIES:Folk & More
CLASS:PUBLIC
DESCRIPTION;ALTREP="CID:<FFFF__=0ABBE548DFE235B58f9e8a93d@coffeebean.com>":
 Brambus Records präsentiert:\nKate McDonnell\nEine ausdrucksvolle\, lyrisc
 h starke Songschreiberin\, die mit virtuosem Gitarrenspiel ihre intensiven
  Songs begleitet. Kate McDonnell gehört zur Elite der amerikanischen Songs
 chreiber:innen der Ostküste und seit dem Album «Don’t Get Me Started» anno
  2001 zur Schweizer «Brambus Records»-Family.\nMcDonnells Liebe zur Musik 
 begann\, als sie vier Jahre alt war. Sie stiess im Plattenstapel ihrer Mut
 ter auf eines der Alben von Joan Baez. McDonnell\, eine Linkshänderin\, ho
 b eine Gibson-Gitarre auf\, die ihrer Mutter gehörte und die grösser war a
 ls sie selbst. Sie brachte sich das Spielen selbst bei\, studierte Englisc
 he Literatur und machte 1983 ihren Abschluss. 1989 schrieb sie ihr erstes 
 Lied.\nMit zwei selbst produzierten Alben und Auftritten im Vorprogramm vo
 n Willie Nelson\, Bob Dylan und Kathy Mattea schaffte Kate sich einen Name
 n\, trat solo beim Newport Folk Festival auf und 2002 gewann sie den erste
 n Platz beim Mountain Stage Festival New Song Competition. Ihr letztes Alb
 um «Ballad Of A Bad Girl» stammt von 2021 und fand nicht nur in Kritikerkr
 eisen grosse Beachtung.\nKate McDonnell pflegt eine ausgefeilte und subtil
 e Musikalität in Sachen Bluegrass\, Swing-Tunes und klassischem Singer-/So
 ngwritertum\, rhythmisch solide\, flink und energiegeladen. Im Rahmen ihre
 r Europa-Tour besucht Kate McDonnell für vier Konzerte auch die Schweiz un
 d gastiert auf der ESSE-Bühne in Winterthur.\nKate McConnell (g\, voc)\nht
 tps://katemcdonnell.com
DTSTART:20230326T173000Z
DTEND:20230326T173000Z
GEO:00;0
LOCATION:
ORGANIZER:
SEQUENCE:1
SUMMARY:Kate McDonnell
TRANSP:OPAQUE
URL:https://www.esse.bar/index.php/veranstaltungen/vergangene-veranstaltung
 en/1792-kate-mcdonnell/2023-03-26-19-30
END:VEVENT
END:VCALENDAR
