BEGIN:VCALENDAR
VERSION:2.0
PRODID:-//ESSE Musicbar Winterthur//NONSGML kigkonsult.se iCalcreator 2.41.92//
CALSCALE:GREGORIAN
METHOD:PUBLISH
UID:61393938-3766-4436-a362-373566616539
X-WR-CALNAME:iCagenda
X-WR-CALDESC:Event Management Extension for Joomla!
X-WR-RELCALID:3E26604A-50F4-4449-8B3E-E4F4932D05B5
X-WR-TIMEZONE:Europe/Zurich
BEGIN:VTIMEZONE
TZID:Europe/Zurich
TZUNTIL:20241027T010000Z
BEGIN:STANDARD
TZNAME:CET
DTSTART:20221030T030000
TZOFFSETFROM:+0200
TZOFFSETTO:+0100
RDATE:20231029T030000
END:STANDARD
BEGIN:DAYLIGHT
TZNAME:CEST
DTSTART:20230326T020000
TZOFFSETFROM:+0100
TZOFFSETTO:+0200
RDATE:20240331T020000
END:DAYLIGHT
END:VTIMEZONE
BEGIN:VEVENT
UID:32386331-6666-4336-b638-306236313837
DTSTAMP:20260419T151355Z
CATEGORIES:Blues
CLASS:PUBLIC
DESCRIPTION;ALTREP="CID:<FFFF__=0ABBE548DFE235B58f9e8a93d@coffeebean.com>":
 Shawn Jones ist der Inbegriff der Slide-Gitarre und einer der ausdrucksstä
 rksten Singer-Songwriter\, wenn es um amerikanischen Southern-Blues und Co
 untry-Rock geht. Der gebürtige Kalifornier gilt als ein dynamischer Perfor
 mer\, der mit seinem atemberaubenden Gitarrenspiel als auch mit seiner ein
 zigartigen Stimme zu beeindrucken weiss.\nJones blickt auf eine 30-jährige
  Karriere als Live-Musiker mit fünf veröffentlichten Studio-Alben zurück u
 nd weiss auf der Bühne sehr genau\, was er tut. Spätestens beim ersten Git
 arren-Solo weiss man\, dass der Blues durch seine Adern fliesst. Seit viel
 en Jahren tourt er durch die USA\, Canada\, wie auch Europa – ein sicherer
  Wert!\nShawn Jones (g)\nwww.shawnjonesmusic.com
DTSTART:20230330T181500Z
DTEND:20230330T181500Z
GEO:00;0
LOCATION:
ORGANIZER:
SEQUENCE:1
SUMMARY:Shawn Jones
TRANSP:OPAQUE
URL:https://www.esse.bar/index.php/veranstaltungen/vergangene-veranstaltung
 en/1793-shawn-jones-2/2023-03-30-20-15
END:VEVENT
END:VCALENDAR
