BEGIN:VCALENDAR
VERSION:2.0
PRODID:-//ESSE Musicbar Winterthur//NONSGML kigkonsult.se iCalcreator 2.41.92//
CALSCALE:GREGORIAN
METHOD:PUBLISH
UID:36643230-3764-4839-a132-343433383466
X-WR-CALNAME:iCagenda
X-WR-CALDESC:Event Management Extension for Joomla!
X-WR-RELCALID:3E26604A-50F4-4449-8B3E-E4F4932D05B5
X-WR-TIMEZONE:Europe/Zurich
BEGIN:VTIMEZONE
TZID:Europe/Zurich
TZUNTIL:20241027T010000Z
BEGIN:STANDARD
TZNAME:CET
DTSTART:20221030T030000
TZOFFSETFROM:+0200
TZOFFSETTO:+0100
RDATE:20231029T030000
END:STANDARD
BEGIN:DAYLIGHT
TZNAME:CEST
DTSTART:20230326T020000
TZOFFSETFROM:+0100
TZOFFSETTO:+0200
RDATE:20240331T020000
END:DAYLIGHT
END:VTIMEZONE
BEGIN:VEVENT
UID:38346138-6431-4165-a530-633562653132
DTSTAMP:20260419T152054Z
CATEGORIES:Jazz
CLASS:PUBLIC
DESCRIPTION;ALTREP="CID:<FFFF__=0ABBE548DFE235B58f9e8a93d@coffeebean.com>":
 Inspiriert von ihrer Tour durch den Senegal präsentieren «Bouye» ihr neues
  Album «Teranga». Musik\, die unter die Haut geht und mitreisst: Eine expl
 osive Mischung von Musikstilen unterschiedlicher Kulturen voller feurigem 
 Soul\, afrikanischen Rhythmen\, jazzigen Melodien &amp\; Good Vibes.\n«Bou
 ye» erlangten mit dem fulminanten Debüt «One World» Bekanntheit in der Sch
 weizer und in der senagalesischen Musiklandschaft. Andrea Janser begeister
 t mit ihrer warmen\, ausdrucksstarken Stimme\, prägnanten Melodien und raf
 finierten Arrangements. Inspiriert von den Menschen\, der Musik und dem Le
 bensrhythmus in Senegal\, erzählt die Schweizerin auf beeindruckende Weise
  Geschichten und Träume auf Englisch\, Französisch\, Deutsch und Wolof. Au
 ch die neuen Stücke entstanden in Zusammenarbeit mit etlichen senegalesisc
 hen Stars und der hochkarätigen Band – der kulturelle Austausch macht die 
 Musik kraftvoll und einzigartig.\nAndrea Janser (voc\, g)\, Mike Ryrie (ts
 )\, Roman Bieri (tb)\, Beat Oezmen (p)\, Abdourakhmane Fall (b)\, Omar Dia
 dji (dr)\nhttp://bouye.band
DTSTART:20230405T181500Z
DTEND:20230405T181500Z
GEO:00;0
LOCATION:
ORGANIZER:
SEQUENCE:1
SUMMARY:Bouye – «Teranga»: African-European Roots & Rhythms
TRANSP:OPAQUE
URL:https://www.esse.bar/index.php/veranstaltungen/vergangene-veranstaltung
 en/1794-bouye-teranga-african-european-roots-rhythms/2023-04-05-20-15
END:VEVENT
END:VCALENDAR
