BEGIN:VCALENDAR
VERSION:2.0
PRODID:-//ESSE Musicbar Winterthur//NONSGML kigkonsult.se iCalcreator 2.41.92//
CALSCALE:GREGORIAN
METHOD:PUBLISH
UID:33653566-3731-4565-a137-393631623133
X-WR-CALNAME:iCagenda
X-WR-CALDESC:Event Management Extension for Joomla!
X-WR-RELCALID:3E26604A-50F4-4449-8B3E-E4F4932D05B5
X-WR-TIMEZONE:Europe/Zurich
BEGIN:VTIMEZONE
TZID:Europe/Zurich
TZUNTIL:20241027T010000Z
BEGIN:STANDARD
TZNAME:CET
DTSTART:20221030T030000
TZOFFSETFROM:+0200
TZOFFSETTO:+0100
RDATE:20231029T030000
END:STANDARD
BEGIN:DAYLIGHT
TZNAME:CEST
DTSTART:20230326T020000
TZOFFSETFROM:+0100
TZOFFSETTO:+0200
RDATE:20240331T020000
END:DAYLIGHT
END:VTIMEZONE
BEGIN:VEVENT
UID:35353563-6237-4662-b464-313038616630
DTSTAMP:20260419T150946Z
CATEGORIES:Electro-Pop
CLASS:PUBLIC
DESCRIPTION;ALTREP="CID:<FFFF__=0ABBE548DFE235B58f9e8a93d@coffeebean.com>":
 «GeneM» ist eine alternative Electro-Pop Band aus der Ostschweiz\, die im 
 Jahr 1999 gegründet wurde. Die Band besteht aus den Mitgliedern Mo\, Kafi 
 und Reto. «GeneM» bedeutet «Generation Mix».\nZwei Generationen haben sich
  zusammengefunden\, um ihre Leidenschaft für die Musik auszuleben und einz
 igartige Klänge mit der Welt zu teilen. Nach harter Arbeit und zahlreichen
  Auftritten in Clubs und bei Festivals veröffentlichten sie 2001 ihr Debüt
 album «Fluid (GeneM)»\, das bei Kritikern und Fans gleichermassen gut anka
 m. 2005 erschien das Album «I’ve seen» und zeigte eine grössere Klarheit i
 n den Arrangements und eine erweiterte Palette an Stilen\, die den Bandsou
 nd noch ansprechender machten.\nNach einer längeren Pause haben sich die d
 rei Musiker wieder zusammengefunden und veröffentlichten im Jahr 2021 die 
 EP «Time». Im Laufe der Zeit haben sie ihren Sound weiterentwickelt und ih
 ren eigenen Stil gefunden\, der manchmal rauschend wie ein Bach und Mal ze
 rbrechlich wie die Flügel eines Schmetterlings und doch kraftvoll und puls
 ierend ist. «GeneM» lassen die Zuhörenden zuweilen treiben\, entschweben\,
  um sie immer wieder sanft auf den Boden zurückzuholen und in eine ganz ei
 gene\, neue Welt zu entführen.\nAuch in Zukunft wird das Trio weiterhin mi
 t Leidenschaft neue Musik schreiben\, aufnehmen und live performen. «GeneM
 » bleibt eine der Bands aus der Ostschweiz\, die definitiv ein Ohr und Aug
 e wert sind.\nMo (Vocals)\, Kafi (Producing\, Loops\, Synth)\, Reto (Produ
 cing\, Loops\, Synth\, Backing Voc)\nhttps://genem.ch
DTSTART:20230414T181500Z
DTEND:20230414T181500Z
GEO:00;0
LOCATION:
ORGANIZER:
SEQUENCE:1
SUMMARY:GeneM
TRANSP:OPAQUE
URL:https://www.esse.bar/index.php/veranstaltungen/vergangene-veranstaltung
 en/1795-genem/2023-04-14-20-15
END:VEVENT
END:VCALENDAR
