BEGIN:VCALENDAR
VERSION:2.0
PRODID:-//ESSE Musicbar Winterthur//NONSGML kigkonsult.se iCalcreator 2.41.92//
CALSCALE:GREGORIAN
METHOD:PUBLISH
UID:37396265-3633-4866-b331-303339616237
X-WR-CALNAME:iCagenda
X-WR-CALDESC:Event Management Extension for Joomla!
X-WR-RELCALID:3E26604A-50F4-4449-8B3E-E4F4932D05B5
X-WR-TIMEZONE:Europe/Zurich
BEGIN:VTIMEZONE
TZID:Europe/Zurich
TZUNTIL:20241027T010000Z
BEGIN:STANDARD
TZNAME:CET
DTSTART:20221030T030000
TZOFFSETFROM:+0200
TZOFFSETTO:+0100
RDATE:20231029T030000
END:STANDARD
BEGIN:DAYLIGHT
TZNAME:CEST
DTSTART:20220327T020000
TZOFFSETFROM:+0100
TZOFFSETTO:+0200
RDATE:20230326T020000
RDATE:20240331T020000
END:DAYLIGHT
END:VTIMEZONE
BEGIN:VEVENT
UID:66386435-6261-4161-a237-373266323434
DTSTAMP:20260419T170237Z
CATEGORIES:Folk & More
CLASS:PUBLIC
DESCRIPTION;ALTREP="CID:<FFFF__=0ABBE548DFE235B58f9e8a93d@coffeebean.com>":
 Ersatz für «Dannenmayer &amp\; Homburger» ist gefunden:\nThe Crocks\nNur e
 twas mehr als einen Monat ist es her\, da haben «The Crocks» bei unseren N
 achbar im «LOK.AL» gespielt\, jetzt springen sie bei uns für Andreas Danne
 nmayer &amp\; Notker Homburger ein. Hoch die Tassen!\n«The Crocks» sind ei
 ne der angesagtesten Bands in und um Winterthur. Die drei Herren mit viel 
 Bandvergangenheit werden von Yvonne Grünwalds (Daytona) kraftvoller Rockrö
 hre unterstützt. Nebst groovigen Rockklassikern von AC/DC über Beatles bis
  Frank Zappa oder Van Halen finden sich auch etliche Eigenkompositionen au
 f der Setlist\, eine davon ist sogar seit Jahren in der Rotation von Radio
  Swisspop. Komm vorbei\, dein Lieblingssong ist bestimmt auch dabei!\nYvon
 ne Grünwald (voc\, keyb)\, Ruedi Brem (voc\, g\, b)\, Mauro Iacobacci (lg\
 , bacv)\, Dino Principe (dr)\nhttps://www.facebook.com/thecrocksCH/?locale
 =de_DE
DTSTART:20230226T183000Z
DTEND:20230226T183000Z
GEO:00;0
LOCATION:
ORGANIZER:
SEQUENCE:1
SUMMARY:The Crocks
TRANSP:OPAQUE
URL:https://www.esse.bar/index.php/veranstaltungen/vergangene-veranstaltung
 en/1796-the-crocks/2023-02-26-19-30
END:VEVENT
END:VCALENDAR
