BEGIN:VCALENDAR
VERSION:2.0
PRODID:-//ESSE Musicbar Winterthur//NONSGML kigkonsult.se iCalcreator 2.41.92//
CALSCALE:GREGORIAN
METHOD:PUBLISH
UID:33363231-3363-4766-b835-613933326561
X-WR-CALNAME:iCagenda
X-WR-CALDESC:Event Management Extension for Joomla!
X-WR-RELCALID:3E26604A-50F4-4449-8B3E-E4F4932D05B5
X-WR-TIMEZONE:Europe/Zurich
BEGIN:VTIMEZONE
TZID:Europe/Zurich
TZUNTIL:20241027T010000Z
BEGIN:STANDARD
TZNAME:CET
DTSTART:20221030T030000
TZOFFSETFROM:+0200
TZOFFSETTO:+0100
RDATE:20231029T030000
END:STANDARD
BEGIN:DAYLIGHT
TZNAME:CEST
DTSTART:20230326T020000
TZOFFSETFROM:+0100
TZOFFSETTO:+0200
RDATE:20240331T020000
END:DAYLIGHT
END:VTIMEZONE
BEGIN:VEVENT
UID:66336537-6266-4233-b963-373633663631
DTSTAMP:20260419T150946Z
CATEGORIES:Jazz Jam Point Session
CLASS:PUBLIC
DESCRIPTION;ALTREP="CID:<FFFF__=0ABBE548DFE235B58f9e8a93d@coffeebean.com>":
 Im Rahmen der Reihe «Jam-Point meets Jam-Jazz-Clubs aus der näheren und we
 iteren Umgebung» ist Andy Brugger als “special guest” eingeladen worden. A
 ndy ist einer der topaktuellsten Drummer der Region\, bis letzten Sommer P
 rofessor für Drums und Rhythmics an der Jazzschule Zürich und an der Zürch
 er Hochschule der Künste. An diesem Abend wird er seinen wieder neu erweck
 ten \nJam im Musikzentrum Kanzlei\, Kanzleistrasse 56\, 8004 Zürich\nvorst
 ellen\, der jeweils am Sonntagabend viele Teilnehmer:innen anlockt. In sei
 nen Jamsessions will er insbesondere junge und ältere Musiker:innen zusamm
 enbringen\, damit sie gegenseitig voneinander profitieren können. An der a
 ktuellen Jam-Point Session wird er aktiv die Rhythmik bei der Jam-Point-Gr
 oup aufmischen. Andy ist professioneller Jazzmusiker seit 1977 und hat mit
  unzähligen Stars auf Tourneen in Europa\, Indien\, Südafrika\, Süd- und N
 ordamerika sowie in vielen Oststaaten gespielt. Er ist in sämtlichen Stila
 rten des Jazz zuhause und wird die an dieser Jam-Point-Session teilnehmend
 en Musiker:innen mit seinem Drive und Swing mitreissen.\nSelbstverständlic
 h werden auch wieder etliche Musiker:innen aus der nahen und weiteren Umge
 bung erwartet\, die mit ihren Instrumenten entweder angemeldet oder einfac
 h ganz spontan auftauchen und sich vom Groove unserer Session inspirieren 
 lassen. Unter anderen hat sich auch der Tenorsaxophonist aus der Ukraine\,
  Ihor Diachenko\, angemeldet.\nWeiter sind als Gastmusiker mit dabei: Mari
 o Schneeberger aus Luzern (as)\, Philipp Chretien (ts)\, Urs Honegger aus 
 St. Gallen (tp)\, Thom Grüninger (p) sowie evt. Thomas Möckel aus Basel (t
 p).\nDie Jam Point Group: Richi Schmied (tp\, flh)\, Rolf Winiger (tb)\, B
 runo Bosshardt (cl\, s)\, Elmar Kluth (p)\, Timon Roth (b)\nhttp://www.jam
 -point.ch
DTSTART:20230426T180000Z
DTEND:20230426T180000Z
GEO:00;0
LOCATION:
ORGANIZER:
SEQUENCE:1
SUMMARY:Jazz Jam
TRANSP:OPAQUE
URL:https://www.esse.bar/index.php/veranstaltungen/vergangene-veranstaltung
 en/1797-jazz-jam/2023-04-26-20-00
END:VEVENT
END:VCALENDAR
