BEGIN:VCALENDAR
VERSION:2.0
PRODID:-//ESSE Musicbar Winterthur//NONSGML kigkonsult.se iCalcreator 2.41.92//
CALSCALE:GREGORIAN
METHOD:PUBLISH
UID:63393363-6261-4161-a562-663832373762
X-WR-CALNAME:iCagenda
X-WR-CALDESC:Event Management Extension for Joomla!
X-WR-RELCALID:3E26604A-50F4-4449-8B3E-E4F4932D05B5
X-WR-TIMEZONE:Europe/Zurich
BEGIN:VTIMEZONE
TZID:Europe/Zurich
TZUNTIL:20250330T010000Z
BEGIN:STANDARD
TZNAME:CET
DTSTART:20221030T030000
TZOFFSETFROM:+0200
TZOFFSETTO:+0100
RDATE:20231029T030000
RDATE:20241027T030000
END:STANDARD
BEGIN:DAYLIGHT
TZNAME:CEST
DTSTART:20230326T020000
TZOFFSETFROM:+0100
TZOFFSETTO:+0200
RDATE:20240331T020000
END:DAYLIGHT
END:VTIMEZONE
BEGIN:VEVENT
UID:65373864-6563-4635-a632-613538623063
DTSTAMP:20260419T134931Z
CATEGORIES:Jazz
CLASS:PUBLIC
DESCRIPTION;ALTREP="CID:<FFFF__=0ABBE548DFE235B58f9e8a93d@coffeebean.com>":
 Der Schlagzeuger Rodrigo Bonelli stammt ursprünglich aus Rio de Janeiro\, 
 Brasilien\, und zog schon in jungen Jahren in die Vereinigten Staaten\, um
  seine musikalischen Studien zu vertiefen. Nachdem er mehrere Jahre als fr
 eiberuflicher Musiker in Neuengland gearbeitet hatte\, zog Rodrigo nach Ne
 w York City\, wo er derzeit lebt.\nRodrigo\, der für seinen tadellosen Gro
 ove\, seinen ausgefeilten Geschmack und seine stilistische Vielseitigkeit 
 bekannt ist\, pflegt eine rege Konzert- und Aufnahmetätigkeit in ganz New 
 York und den Vereinigten Staaten. Er hatte das Privileg\, mit so bekannten
  Musikern wie Don Friedman (Chet Baker)\, Ron McClure (Wes Montgomery)\, G
 eorge Garzone\, Konrad Wisznievski und Claudio Roditi (Dizzy Gillespie) au
 fzutreten.\nDas Rodrigo Bonelli Quartet gründete er Ende 2012. Es ist eine
  von Latin-Music inspirierte Gruppe. Mit ihren Eigenkompositionen heben si
 e sich jedoch von vielen anderen Gruppen des gleichen Genres ab und verbin
 den melodische Linien mit raffinierter Jazz-Harmonie und tanzbaren Grooves
  aus Brasilien\, Afrika und Kuba.\nJoe Wagner (ts)\, Nicolai Daneck (p)\, 
 Andrei Tatarinets (b)\, Rodrigo Bonelli (dr)\nwww.rodrigobonelli.com
DTSTART:20230512T181500Z
DTEND:20230512T181500Z
GEO:00;0
LOCATION:
ORGANIZER:
SEQUENCE:1
SUMMARY:Rodrigo Bonelli Quartet – A Tribute To NYC Latin-Jazz
TRANSP:OPAQUE
URL:https://www.esse.bar/index.php/veranstaltungen/vergangene-veranstaltung
 en/1798-rodrigo-bonelli-quartettkonzert/2023-05-12-20-15
END:VEVENT
END:VCALENDAR
