BEGIN:VCALENDAR
VERSION:2.0
PRODID:-//ESSE Musicbar Winterthur//NONSGML kigkonsult.se iCalcreator 2.41.92//
CALSCALE:GREGORIAN
METHOD:PUBLISH
UID:30343165-3636-4366-b731-373834336461
X-WR-CALNAME:iCagenda
X-WR-CALDESC:Event Management Extension for Joomla!
X-WR-RELCALID:3E26604A-50F4-4449-8B3E-E4F4932D05B5
X-WR-TIMEZONE:Europe/Zurich
BEGIN:VTIMEZONE
TZID:Europe/Zurich
TZUNTIL:20241027T010000Z
BEGIN:STANDARD
TZNAME:CET
DTSTART:20221030T030000
TZOFFSETFROM:+0200
TZOFFSETTO:+0100
RDATE:20231029T030000
END:STANDARD
BEGIN:DAYLIGHT
TZNAME:CEST
DTSTART:20230326T020000
TZOFFSETFROM:+0100
TZOFFSETTO:+0200
RDATE:20240331T020000
END:DAYLIGHT
END:VTIMEZONE
BEGIN:VEVENT
UID:61336230-3231-4162-b364-313437363737
DTSTAMP:20260419T153745Z
CATEGORIES:Folk & More
CLASS:PUBLIC
DESCRIPTION;ALTREP="CID:<FFFF__=0ABBE548DFE235B58f9e8a93d@coffeebean.com>":
 Vor siebzig Jahren\, am 1. Januar 1953\, verstarb der amerikanische Singer
 -Songwriter Hank Williams auf dem Rücksitz seines babyblauen Cadillac Conv
 ertible. Wegen seines Hangs zur Polytoxie\, einer magischen Bühnenpräsenz 
 und einer kurzen\, brennenden Karriere\, gilt er als Prototyp des Rock'n'R
 ollers. Musikalisch hat er den Rock'n'Roll\, welcher kurz nach seinem Tod 
 entstand\, mitbegründet.\nHank wurde 29 Jahre alt\, nahm 55 Singles auf un
 d hatte 12 Nr. 1 Hits in den Billboard Country &amp\; Western Charts. Sein
 e Songs wurden von allen grossen Namen interpretiert\, darunter Bob Dylan\
 , Nora Jones\, Johnny Cash\, Elvis Presley\, Chuck Berry\, Willie Nelson u
 nd den Stones.\n«The Moon Howlers» bringen die Musik von Hank Williams zu 
 seinem 70. Todesjahr auf die Bühne. Darunter Songs wie «Long Gone Lonesome
  Blues»\, «Lovesick Blues»\, «Hey Good Looking»\, «Jambalaya»\, “I’ll Neve
 r Get Out Of ThisWorld Alive” u.v.a.\nSämi Schneider aka Handsome Hank (g\
 , voc)\, Beat Lüthi aka Burt Bell (g\, voc)\, Pascal Biedermann aka BD Eas
 t (pedal steel guitar)\, Bice Aebeli (b)\nhttps://www.youtube.com/watch?v=
 garBwmUZ1XE
DTSTART:20230329T181500Z
DTEND:20230329T181500Z
GEO:00;0
LOCATION:
ORGANIZER:
SEQUENCE:1
SUMMARY:The Moon Howlers – A Tribute to Hank Williams
TRANSP:OPAQUE
URL:https://www.esse.bar/index.php/veranstaltungen/vergangene-veranstaltung
 en/1799-the-moon-howlers-a-tribute-to-hank-williams/2023-03-29-20-15
END:VEVENT
END:VCALENDAR
