BEGIN:VCALENDAR
VERSION:2.0
PRODID:-//ESSE Musicbar Winterthur//NONSGML kigkonsult.se iCalcreator 2.41.92//
CALSCALE:GREGORIAN
METHOD:PUBLISH
UID:38353237-3934-4633-b538-313531346335
X-WR-CALNAME:iCagenda
X-WR-CALDESC:Event Management Extension for Joomla!
X-WR-RELCALID:3E26604A-50F4-4449-8B3E-E4F4932D05B5
X-WR-TIMEZONE:Europe/Zurich
BEGIN:VTIMEZONE
TZID:Europe/Zurich
TZUNTIL:20250330T010000Z
BEGIN:STANDARD
TZNAME:CET
DTSTART:20221030T030000
TZOFFSETFROM:+0200
TZOFFSETTO:+0100
RDATE:20231029T030000
RDATE:20241027T030000
END:STANDARD
BEGIN:DAYLIGHT
TZNAME:CEST
DTSTART:20230326T020000
TZOFFSETFROM:+0100
TZOFFSETTO:+0200
RDATE:20240331T020000
END:DAYLIGHT
END:VTIMEZONE
BEGIN:VEVENT
UID:37353839-6137-4132-a135-383565636663
DTSTAMP:20260419T151108Z
CATEGORIES:Jazz
CLASS:PUBLIC
DESCRIPTION;ALTREP="CID:<FFFF__=0ABBE548DFE235B58f9e8a93d@coffeebean.com>":
 Am Sonntag\, 30. April 2023 findet zum zwölften Mal der internationale Tag
  des Jazz statt. Wir feiern diesen Tag mit einem Konzert von Erich Fischer
 s neuster Band «Joey Blue It».\nErich Fischer? Wer? Rekapitulation: Erich 
 Fischer - auch unter dem Künstlernamen «Joey Oz» bekannt - zählt zu den vi
 elseitigsten Jazz-Musikern der Schweiz. 1955 wurde er in Bremgarten/AG geb
 oren\, studierte Schlagzeug und Trompete in Zürich und Vibraphon am 'Berkl
 ee College of Music' in Boston. Seit 1988 ist er als Vibrafonist\, Sänger\
 , Komponist und Arrangeur bei verschiedenen Jazz-\, Latin- und Volkmusik-F
 ormationen tätig. «Jazz ist die Freiheit\, viele Formen zu habe - diesem M
 otto von Duke Ellington folgend\, erprobt Erich Fischer immer wieder neue 
 Klangformationen.\nMit seinem neusten Projekt kehrt er zurück zu den Anfän
 gen des Jazz. Das Repertoire von «Joey Blue It» besteht aus einer vielseit
 igen Mischung von Eigenkompositionen im Jazz- und Blues-Bereich bis hin zu
  Motown-Hits. Das Vibraphon als Hauptinstrument gibt es selten in solch ei
 nem Kontext zu hören. Zusammen mit einem exstatisch gespielten Saxophon er
 gibt dies einen frischen und unerwarteten Bandsound\, genannt «Joey Blue I
 t».\nDave Feusi (ts)\, Erich Fischer (vib\, voc)\, Stephan Athanas (eb)\, 
 Andy Schnyder (dr)Special Guest: Kateryna Chemezova (voc)\nhttps://www.eri
 chfischer-musik.ch/joeyblueit\n 
DTSTART:20230430T173000Z
DTEND:20230430T173000Z
GEO:00;0
LOCATION:
ORGANIZER:
SEQUENCE:1
SUMMARY:Internationaler Tag des Jazz: Joey Blue It
TRANSP:OPAQUE
URL:https://www.esse.bar/index.php/veranstaltungen/vergangene-veranstaltung
 en/1800-jazz-16/2023-04-30-19-30
END:VEVENT
END:VCALENDAR
