BEGIN:VCALENDAR
VERSION:2.0
PRODID:-//ESSE Musicbar Winterthur//NONSGML kigkonsult.se iCalcreator 2.41.92//
CALSCALE:GREGORIAN
METHOD:PUBLISH
UID:36303762-6566-4165-b066-333130643265
X-WR-CALNAME:iCagenda
X-WR-CALDESC:Event Management Extension for Joomla!
X-WR-RELCALID:3E26604A-50F4-4449-8B3E-E4F4932D05B5
X-WR-TIMEZONE:Europe/Zurich
BEGIN:VTIMEZONE
TZID:Europe/Zurich
TZUNTIL:20241027T010000Z
BEGIN:STANDARD
TZNAME:CET
DTSTART:20221030T030000
TZOFFSETFROM:+0200
TZOFFSETTO:+0100
RDATE:20231029T030000
END:STANDARD
BEGIN:DAYLIGHT
TZNAME:CEST
DTSTART:20230326T020000
TZOFFSETFROM:+0100
TZOFFSETTO:+0200
RDATE:20240331T020000
END:DAYLIGHT
END:VTIMEZONE
BEGIN:VEVENT
UID:39313664-3536-4330-b530-663138356330
DTSTAMP:20260419T151245Z
CATEGORIES:Jazz
CLASS:PUBLIC
DESCRIPTION;ALTREP="CID:<FFFF__=0ABBE548DFE235B58f9e8a93d@coffeebean.com>":
 In Zusammenarbeit mit der Stiftung «Winterthur-La Chaux-de-Fonds»\nDie Pre
 mière dieser hochkarätigen Formation Blaser – Schwaar – Weber aus La Chaux
 -de-Fonds\, fand im Rahmen des Festivals «1000 Jazz»\, am 22. Oktober 2022
  statt und wurde eigens für diesen Auftritt gegründet! In Zusammenarbeit m
 it der Stiftung «Winterthur-La Chaux-de-Fonds» kommt es nun zu einem zweit
 en Konzert dieses illustren Trios\, diesmal in Winterthur:\nSamuel Blaser 
 (Posaune)\, ist ein gebürtiger Chaux-de-Fonds-Musiker\, der nach vielen Ja
 hren in den USA und in Berlin wieder in die Stadt zurückgekehrt ist. Er ha
 t einen beeindruckenden Werdegang hinter sich\, der durch die Tatsache ill
 ustriert wird\, dass er zum Europäischen Musiker des Jahres 2018 gewählt w
 urde und von New York City Jazz Record\, Downbeat und Jazz Magazine mehrfa
 ch als einer der bedeutendsten Posaunisten und Komponisten der Gegenwart g
 ewürdigt wurde.\nAlvin Schwaar ist ein aufregender junger Pianist\, der in
  der Schweizer Szene bereits viel von sich reden macht. Er wurde 1994 in L
 a Chaux-de-Fonds geboren und schloss 2018 seinen Bachelor in Jazzpiano an 
 der Hochschule für Musik Basel ab.\nDer dritte im Bunde ist ein Wahl-Chaux
 -de-Fonnier\, der in Zürich geboren wurde und in Österreich studiert hat. 
 Christian Weber (Kontrabass) ist schlichtweg eine feste Grösse in der inte
 rnationalen improvisierten Musik. Er hat zahlreiche Auszeichnungen erhalte
 n\, tourt mit den grössten Namen dieses Genres durch die ganze Welt und en
 twickelt mit Leidenschaft seine persönlichen Projekte. Eine Begegnung\, di
 e erneut aussergewöhnlich zu werden verspricht.\nSamuel Blaser (tb)\, Alvi
 n Schwaar (p)\, Christian Weber (db)\nhttps://www.samuelblaser.comhttp://w
 ww.christianweber.orghttps://winterthur-lachauxdefonds.ch\n 
DTSTART:20230331T181500Z
DTEND:20230331T181500Z
GEO:00;0
LOCATION:
ORGANIZER:
SEQUENCE:1
SUMMARY:Blaser – Schwaar – Weber
TRANSP:OPAQUE
URL:https://www.esse.bar/index.php/veranstaltungen/vergangene-veranstaltung
 en/1807-blaser-schwaar-weber/2023-03-31-20-15
END:VEVENT
END:VCALENDAR
