BEGIN:VCALENDAR
VERSION:2.0
PRODID:-//ESSE Musicbar Winterthur//NONSGML kigkonsult.se iCalcreator 2.41.92//
CALSCALE:GREGORIAN
METHOD:PUBLISH
UID:62376333-3730-4361-a337-306466343661
X-WR-CALNAME:iCagenda
X-WR-CALDESC:Event Management Extension for Joomla!
X-WR-RELCALID:3E26604A-50F4-4449-8B3E-E4F4932D05B5
X-WR-TIMEZONE:Europe/Zurich
BEGIN:VTIMEZONE
TZID:Europe/Zurich
TZUNTIL:20241027T010000Z
BEGIN:STANDARD
TZNAME:CET
DTSTART:20221030T030000
TZOFFSETFROM:+0200
TZOFFSETTO:+0100
RDATE:20231029T030000
END:STANDARD
BEGIN:DAYLIGHT
TZNAME:CEST
DTSTART:20230326T020000
TZOFFSETFROM:+0100
TZOFFSETTO:+0200
RDATE:20240331T020000
END:DAYLIGHT
END:VTIMEZONE
BEGIN:VEVENT
UID:36376165-3765-4037-b038-366535373930
DTSTAMP:20260419T151216Z
CATEGORIES:Jazz
CLASS:PUBLIC
DESCRIPTION;ALTREP="CID:<FFFF__=0ABBE548DFE235B58f9e8a93d@coffeebean.com>":
 Ein halbakustisches Jazz-Quartett mit vielen Eigenkompositionen\, erst mit
  provisorischer Website\, ohne Instagram\, ohne Facebook\, ohne Spotify - 
 ein Geheimtipp also!\nIda Lupino\, Hollywood-Ikone und Regiepionierin\, st
 eht als Patin und Namensgeberin für das Souljazzquartett um Kriz Flueler (
 tp)\, Mike Moling (rhodes) und Fridolin Berger (db) und Andi Wettstein (dr
 ). Die renommierten Musiker der Zürcher Jazzszene haben sich vorgenommen\,
  den Soul zurück in den Jazz zu bringen: erdige Grooves\, elegante Lines\,
  seelenvolle Songs - und gleichzeitig eine Kühnheit und Verletzlichkeit in
  der Musik zu bewahren\, so dass sie Ida Lupino gefallen würde.\n«Lupino» 
 ist der Corona-Flaute zu verdanken\, ohne Auftrittsmöglichkeiten war es ei
 n Leichtes\, die vielbeschäftigten Sidemen für ein unkompliziertes Quartet
 t um Mike Moling zu begeistern. Inzwischen hat sich «Lupino» ein eigenes P
 rofil erarbeitet mit einem Repertoire\, das neben einzelnen neu arrangiert
 en Standards vor allem aus Kompositionen des Trompeters Christoph Flueler 
 aka Kriz Flew nährt. Die profilierten\, mit allen Wassern gewaschenen Musi
 ker geben ihre reiche Erfahrung in dieses Projekt hinein. Es entsteht aber
  nicht abgetakelte Routine\, sondern taufrische\, engagierte Musik mit vie
 l Groove\, die den Draht zum Publikum sucht und findet.\nChristoph «Kriz F
 lew» Flueler (tp)\, Mike Moling (rhodes)\, Fridolin Berger (db)\, Andreas 
 Wettstein (dr)\nhttps://lupinoband.wixsite.com/lupinohttps://www.youtube.c
 om/watch?v=T0NPexueh98http://www.krizflew.chhttps://www.fridolinberger.com
DTSTART:20230420T181500Z
DTEND:20230420T181500Z
GEO:00;0
LOCATION:
ORGANIZER:
SEQUENCE:1
SUMMARY:Lupino
TRANSP:OPAQUE
URL:https://www.esse.bar/index.php/veranstaltungen/vergangene-veranstaltung
 en/1808-lupino/2023-04-20-20-15
END:VEVENT
END:VCALENDAR
