BEGIN:VCALENDAR
VERSION:2.0
PRODID:-//ESSE Musicbar Winterthur//NONSGML kigkonsult.se iCalcreator 2.41.92//
CALSCALE:GREGORIAN
METHOD:PUBLISH
UID:63383763-3735-4432-a361-623033613034
X-WR-CALNAME:iCagenda
X-WR-CALDESC:Event Management Extension for Joomla!
X-WR-RELCALID:3E26604A-50F4-4449-8B3E-E4F4932D05B5
X-WR-TIMEZONE:Europe/Zurich
BEGIN:VTIMEZONE
TZID:Europe/Zurich
TZUNTIL:20241027T010000Z
BEGIN:STANDARD
TZNAME:CET
DTSTART:20221030T030000
TZOFFSETFROM:+0200
TZOFFSETTO:+0100
RDATE:20231029T030000
END:STANDARD
BEGIN:DAYLIGHT
TZNAME:CEST
DTSTART:20230326T020000
TZOFFSETFROM:+0100
TZOFFSETTO:+0200
RDATE:20240331T020000
END:DAYLIGHT
END:VTIMEZONE
BEGIN:VEVENT
UID:62656539-3433-4437-a561-376131333132
DTSTAMP:20260419T152314Z
CATEGORIES:Folk & More
CLASS:PUBLIC
DESCRIPTION;ALTREP="CID:<FFFF__=0ABBE548DFE235B58f9e8a93d@coffeebean.com>":
 Wow\, wieder ein würdiger Live-Tatort: Gleich zwei Solo-Gigs gibt es an di
 esem Sonntag zu sehen und zu hören.\n«Lucky The Girl» alias Michèle Thomme
 n ist unterwegs mit ihrem neuen Album «Join Me For A Ride». Die Basler Sin
 ger- und Songwriterin Michèle Thommen\, die seit über 30 Jahren singt und 
 komponiert\, ist seit 2009 unter ihrem Pseudonym und solo mit akustischer 
 Gitarre unterwegs. «Lucky The Girl» singt in ihren englischen Pop und Folk
 songs über die Zerbrechlichkeit des Lebens und der Liebe und auch die Wirr
 en in unserer Gesellschaft kommt nicht zu kurz.\nMichèle Thommen (acoustic
  guitar\, vocals)\nhttps://www.lucky-the-girl.ch\n\nAndi Gisler präsentier
 t Musik aus seinem Album «Facing The Sea - Guitar Routes». Virtuose Gitarr
 eninstrumentals treffen auf atmosphärische Slide-Sounds in bester ’Paris/T
 exas’-Stimmung. Ebenso Teil des Repertoires sind eigene Songs und Arrangem
 ents von Pop/Rock-Klassikern.\nAndi Gisler (acoustic guitar\, Weissenborn 
 slide guitar\, vocals)\nhttps://andigisler.com
DTSTART:20230416T173000Z
DTEND:20230416T173000Z
GEO:00;0
LOCATION:
ORGANIZER:
SEQUENCE:1
SUMMARY:Lucky The Girl / Andi Gisler – Solos
TRANSP:OPAQUE
URL:https://www.esse.bar/index.php/veranstaltungen/vergangene-veranstaltung
 en/1809-lucky-the-girl-andi-gisler-solos/2023-04-16-19-30
END:VEVENT
END:VCALENDAR
