BEGIN:VCALENDAR
VERSION:2.0
PRODID:-//ESSE Musicbar Winterthur//NONSGML kigkonsult.se iCalcreator 2.41.92//
CALSCALE:GREGORIAN
METHOD:PUBLISH
UID:32633934-3632-4831-a239-653766313265
X-WR-CALNAME:iCagenda
X-WR-CALDESC:Event Management Extension for Joomla!
X-WR-RELCALID:3E26604A-50F4-4449-8B3E-E4F4932D05B5
X-WR-TIMEZONE:Europe/Zurich
BEGIN:VTIMEZONE
TZID:Europe/Zurich
TZUNTIL:20241027T010000Z
BEGIN:STANDARD
TZNAME:CET
DTSTART:20221030T030000
TZOFFSETFROM:+0200
TZOFFSETTO:+0100
RDATE:20231029T030000
END:STANDARD
BEGIN:DAYLIGHT
TZNAME:CEST
DTSTART:20230326T020000
TZOFFSETFROM:+0100
TZOFFSETTO:+0200
RDATE:20240331T020000
END:DAYLIGHT
END:VTIMEZONE
BEGIN:VEVENT
UID:65373934-3131-4963-b535-643437303165
DTSTAMP:20260419T151544Z
CATEGORIES:Folk & More
CLASS:PUBLIC
DESCRIPTION;ALTREP="CID:<FFFF__=0ABBE548DFE235B58f9e8a93d@coffeebean.com>":
 «Counting Miles» heisst die neue Single von Reto Burrell und gibt schon ma
 l ganz schön Tempo vor. Als Musiker\, Songwriter und Musikproduzent ist de
 r Luzerner seit 30 Jahren eine feste Grösse in der Szene. Burrell schafft 
 es\, Rock\, Pop\, Country\, Folk und Blues zu seinem ganz eigenen American
 a-Stil zu verschmelzen. Nebst eigenen Songs schreibt und produziert er auc
 h für diverse andere Schweizer Künstler:innen wie Anna Känzig\, Adrian Ste
 rn\, Trummer\, Trauffer\, Ueli Schmezer.\nNun ist es aber wieder mal Zeit 
 für ein eigenes Album! Und bevor dieses im Sommer 2023 erscheint\, brennt 
 Reto Burrell darauf\, in einigen Acoustic Solo-Shows das neue Material sch
 on mal vor Publikum zu präsentieren.\nReto Burrell (g\, voc\, comp)\nwww.r
 etoburrell.ch
DTSTART:20230423T173000Z
DTEND:20230423T173000Z
GEO:00;0
LOCATION:
ORGANIZER:
SEQUENCE:1
SUMMARY:Reto Burrell – «Counting Miles»
TRANSP:OPAQUE
URL:https://www.esse.bar/index.php/veranstaltungen/vergangene-veranstaltung
 en/1810-reto-burrell-counting-miles/2023-04-23-19-30
END:VEVENT
END:VCALENDAR
