BEGIN:VCALENDAR
VERSION:2.0
PRODID:-//ESSE Musicbar Winterthur//NONSGML kigkonsult.se iCalcreator 2.41.92//
CALSCALE:GREGORIAN
METHOD:PUBLISH
UID:64393362-3061-4235-a164-616261633437
X-WR-CALNAME:iCagenda
X-WR-CALDESC:Event Management Extension for Joomla!
X-WR-RELCALID:3E26604A-50F4-4449-8B3E-E4F4932D05B5
X-WR-TIMEZONE:Europe/Zurich
BEGIN:VTIMEZONE
TZID:Europe/Zurich
TZUNTIL:20250330T010000Z
BEGIN:STANDARD
TZNAME:CET
DTSTART:20221030T030000
TZOFFSETFROM:+0200
TZOFFSETTO:+0100
RDATE:20231029T030000
RDATE:20241027T030000
END:STANDARD
BEGIN:DAYLIGHT
TZNAME:CEST
DTSTART:20230326T020000
TZOFFSETFROM:+0100
TZOFFSETTO:+0200
RDATE:20240331T020000
END:DAYLIGHT
END:VTIMEZONE
BEGIN:VEVENT
UID:63353436-3065-4137-b930-336330383631
DTSTAMP:20260419T133528Z
CATEGORIES:Jazz Jam Point Session
CLASS:PUBLIC
DESCRIPTION;ALTREP="CID:<FFFF__=0ABBE548DFE235B58f9e8a93d@coffeebean.com>":
 Eine Jam-Session ist ein lebendiges\, improvisatorisches Musik-Event\, bei
  dem Musiker zusammenkommen\, um frei zu jammen und gemeinsam Musik zu mac
 hen. Es ist eine einzigartige und spontane Erfahrung\, bei der die Musiker
  die Möglichkeit haben\, ihre Fähigkeiten und ihr musikalisches Talent zu 
 zeigen und sich gegenseitig zu inspirieren. Es ist ein Ort\, an dem Kreati
 vität und Experimentierfreude gefördert werden\, während die Musiker zusam
 menarbeiten\, um neue Klänge und Rhythmen zu schaffen. Jam-Sessions haben 
 eine lockere und entspannte Atmosphäre\, in der sich sowohl Musiker als au
 ch Zuhörer wohlfühlen und mitgerissen werden. Es ist eine Gelegenheit\, Mu
 sik in einer intimen und unkonventionellen Umgebung zu geniessen und mit a
 nderen Musikbegeisterten in Kontakt zu treten. Jeder ist herzlich eingelad
 en\, sich der Session anzuschliessen\, sei es als Musiker oder Zuhörer\, u
 m gemeinsam eine einzigartige und positive Erfahrung zu teilen.\nEs empfie
 hlt sich\, die Sitzplätze zu reservieren unter folgendem Link: www.esse-mu
 sicbar.ch\nOffizielle Webseite: www.jam-point.ch
DTSTART:20230628T180000Z
DTEND:20230628T180000Z
GEO:00;0
LOCATION:
ORGANIZER:
SEQUENCE:1
SUMMARY:Jazz Jam
TRANSP:OPAQUE
URL:https://www.esse.bar/index.php/veranstaltungen/vergangene-veranstaltung
 en/1811-jazz-jam-2/2023-06-28-20-00
END:VEVENT
END:VCALENDAR
