BEGIN:VCALENDAR
VERSION:2.0
PRODID:-//ESSE Musicbar Winterthur//NONSGML kigkonsult.se iCalcreator 2.41.92//
CALSCALE:GREGORIAN
METHOD:PUBLISH
UID:64613139-3733-4661-a432-373166623136
X-WR-CALNAME:iCagenda
X-WR-CALDESC:Event Management Extension for Joomla!
X-WR-RELCALID:3E26604A-50F4-4449-8B3E-E4F4932D05B5
X-WR-TIMEZONE:Europe/Zurich
BEGIN:VTIMEZONE
TZID:Europe/Zurich
TZUNTIL:20241027T010000Z
BEGIN:STANDARD
TZNAME:CET
DTSTART:20221030T030000
TZOFFSETFROM:+0200
TZOFFSETTO:+0100
RDATE:20231029T030000
END:STANDARD
BEGIN:DAYLIGHT
TZNAME:CEST
DTSTART:20230326T020000
TZOFFSETFROM:+0100
TZOFFSETTO:+0200
RDATE:20240331T020000
END:DAYLIGHT
END:VTIMEZONE
BEGIN:VEVENT
UID:61666439-3637-4238-a632-353233343033
DTSTAMP:20260419T151350Z
CATEGORIES:young people on stage
CLASS:PUBLIC
DESCRIPTION;ALTREP="CID:<FFFF__=0ABBE548DFE235B58f9e8a93d@coffeebean.com>":
 Die Jugendmusikschule Winterthur und Umgebung präsentiert einen Abend mit 
 Schüler*innen von Andrrea Zuzak und Christoph Battaglia!\nProgramm:\n \nGe
 igenquartett - Folk von Blues bis Balkan\nEmilie Wäger\, vl\nNuria Wiggli\
 , vl\nJordi Sposato\, vl\nJulian Kerekes\, vl\nNoah Zuzak\, perc\n \nGitar
 re &amp\; Gesang - Duo - Singer-/Songwriter\nJaëlle Paratte\, ag\, voc\nMa
 rlene Schmutz\, ag\, voc\n \nGitarre &amp\; Flügel  - Duo - Singer-/Songwr
 iter\nPhilomena Brandenberger\, ag\, voc\nIsabelle Brandenberger\, p\n \nP
 ending5 - Rock &amp\; Pop\nGina Zeller\, voc\nAmie Collenberg\, ag\, voc\n
 Zoé Beranek-Chiu\, fagott\nOscar Meier\, dr\nMia Müggler\, eb\, voc
DTSTART:20230404T173000Z
DTEND:20230404T173000Z
GEO:00;0
LOCATION:
ORGANIZER:
SEQUENCE:1
SUMMARY:Young People On Stage
TRANSP:OPAQUE
URL:https://www.esse.bar/index.php/veranstaltungen/vergangene-veranstaltung
 en/1814-resonanz-probespiel-pop-rock-8/2023-04-04-19-30
END:VEVENT
END:VCALENDAR
