BEGIN:VCALENDAR
VERSION:2.0
PRODID:-//ESSE Musicbar Winterthur//NONSGML kigkonsult.se iCalcreator 2.41.92//
CALSCALE:GREGORIAN
METHOD:PUBLISH
UID:38306536-3533-4664-b631-643435316336
X-WR-CALNAME:iCagenda
X-WR-CALDESC:Event Management Extension for Joomla!
X-WR-RELCALID:3E26604A-50F4-4449-8B3E-E4F4932D05B5
X-WR-TIMEZONE:Europe/Zurich
BEGIN:VTIMEZONE
TZID:Europe/Zurich
TZUNTIL:20250330T010000Z
BEGIN:STANDARD
TZNAME:CET
DTSTART:20221030T030000
TZOFFSETFROM:+0200
TZOFFSETTO:+0100
RDATE:20231029T030000
RDATE:20241027T030000
END:STANDARD
BEGIN:DAYLIGHT
TZNAME:CEST
DTSTART:20230326T020000
TZOFFSETFROM:+0100
TZOFFSETTO:+0200
RDATE:20240331T020000
END:DAYLIGHT
END:VTIMEZONE
BEGIN:VEVENT
UID:65633935-3239-4638-b235-613465666264
DTSTAMP:20260419T150946Z
CATEGORIES:Jazz
CLASS:PUBLIC
DESCRIPTION;ALTREP="CID:<FFFF__=0ABBE548DFE235B58f9e8a93d@coffeebean.com>":
 «Infusion» spielt Jazz-\, Funk- und Fusion-Tunes\, die auf der Tanzfläche 
 wie auch in Lounges für die perfekte Stimmung sorgen. Zum Repertoire gehör
 en Songs aus den 70ern und 80ern sowie einige zeitgenössische Musikstücke 
 – eigenarrangiert und nie ohne ihre charakteristische Originalität.\nAm li
 ebsten spielt die Band die besten Hits von grossen Namen der Jazz-Geschich
 te: Marcus Miller\, Lee Ritenour\, Herbie Hancock bis zu Yellowjackets\, M
 ezzoforte\, Chick Corea\, um nur einen Bruchteil zu nennen. Das Sextett\, 
 ein eingespieltes Team bestehend aus hochkarätigen Musiker:innen mit jahre
 langer Erfahrung auf Bühne\, im Klassenzimmer und Studio\, feierte sein De
 büt im April 2022.\nJudith Zürcher (voc)\, Pius Da Mutten (s)\, Florian Bi
 enst (keyb)\, Raffael Meyer (g)\, Hans Neber (b)\, Walter Vitale (dr)\nhtt
 ps://infusion.band
DTSTART:20230428T181500Z
DTEND:20230428T181500Z
GEO:00;0
LOCATION:
ORGANIZER:
SEQUENCE:1
SUMMARY:Infusion
TRANSP:OPAQUE
URL:https://www.esse.bar/index.php/veranstaltungen/vergangene-veranstaltung
 en/1818-infusion/2023-04-28-20-15
END:VEVENT
END:VCALENDAR
