BEGIN:VCALENDAR
VERSION:2.0
PRODID:-//ESSE Musicbar Winterthur//NONSGML kigkonsult.se iCalcreator 2.41.92//
CALSCALE:GREGORIAN
METHOD:PUBLISH
UID:31386532-6339-4932-b664-303938363734
X-WR-CALNAME:iCagenda
X-WR-CALDESC:Event Management Extension for Joomla!
X-WR-RELCALID:3E26604A-50F4-4449-8B3E-E4F4932D05B5
X-WR-TIMEZONE:Europe/Zurich
BEGIN:VTIMEZONE
TZID:Europe/Zurich
TZUNTIL:20250330T010000Z
BEGIN:STANDARD
TZNAME:CET
DTSTART:20221030T030000
TZOFFSETFROM:+0200
TZOFFSETTO:+0100
RDATE:20231029T030000
RDATE:20241027T030000
END:STANDARD
BEGIN:DAYLIGHT
TZNAME:CEST
DTSTART:20230326T020000
TZOFFSETFROM:+0100
TZOFFSETTO:+0200
RDATE:20240331T020000
END:DAYLIGHT
END:VTIMEZONE
BEGIN:VEVENT
UID:65393965-3863-4331-b930-363934386664
DTSTAMP:20260419T151416Z
CATEGORIES:Jazz
CLASS:PUBLIC
DESCRIPTION;ALTREP="CID:<FFFF__=0ABBE548DFE235B58f9e8a93d@coffeebean.com>":
 Eine Baritonsaxofonistin\, die singt und im Zeichen von Klimaschutz oder D
 iversity komponiert: Kira Linn und ihre Kunst gibt es in der Musikwelt nur
  einmal. Das kunterbunte Kontrastprogramm macht sich dementsprechend in de
 r Vita der Wiesbadenerin bemerkbar: Auf der einen Seite atmet sie den Jazz
 -Spirit und spielte mit verschiedenen Projekten sowie Big-Bands (u. a. Bun
 desjazzorchester\, Big-Band des Hessischen Rundfunks\, Swiss Jazz Orchestr
 a) schon auf Bühnen in New York oder Südafrika.\nAuf der anderen sorgt Lin
 n insbesondere mit ihrem sechsköpfigen Linntett für Wirbel und vermengt Ei
 nflüsse aus Jazz\, Pop\, Indie\, R&amp\;B oder Neo-Soul mit den eingangs b
 eschriebenen Gesellschaftsthemen. Musik\, die klingt\, als ob Duke Ellingt
 on zusammen mit Billie Eilish für ein Sextett komponiert hätte. Was gar ke
 ine so abwegige Illusion ist\, sondern Programm. Oder besser: Kontrastprog
 ramm in Anbetracht der Kunst von Kira Linn.\nAuf ihrer neuen spannenden Pl
 atte «Illusion» (VÖ: 07.04.23 via Whirlwind Recordings) begeht Kira gleich
  mehrere neue Pfade: Erstmals benutzt sie ihre Stimme und hat eigene Lyric
 s für eine Auswahl Songs geschrieben. Wut und Ohnmacht\, aber auch Kraft\,
  Diversität und Freiheit sind Kernbegriffe und Emotionen\, die während der
  Pandemie aufkamen und sich durch das neue Album ziehen. Inspirationen bil
 den Billie Eilish\, Hiatus Kaiyote und Bon Iver\, genremässig bewegt sich 
 «Illusion» in Gefilden von Jazz über Pop und Indie bis Electro\, Neo-Soul\
 , R&amp\;B. Oder: irgendwo zwischen authentischem Jazz-Gestus\, Neo-Soul-R
 omantik und latent-irrem Nintendo-Pop\, gespielt von Saxophonen sowie Rhod
 es\, E-Bass und Drums.\nKira Linn (bars\, bcl\, voc)\, Nino Wenger (as\, f
 l)\, Lukas Grossmann (p\, synth)\, Freek Mulder (eb)\, Johannes Koch (dr)
 \nhttps://www.kiralinn.com
DTSTART:20230503T181500Z
DTEND:20230503T181500Z
GEO:00;0
LOCATION:
ORGANIZER:
SEQUENCE:1
SUMMARY:Linntett – «Illusion»
TRANSP:OPAQUE
URL:https://www.esse.bar/index.php/veranstaltungen/vergangene-veranstaltung
 en/1823-kira-linn-linte/2023-05-03-20-15
END:VEVENT
END:VCALENDAR
