BEGIN:VCALENDAR
VERSION:2.0
PRODID:-//ESSE Musicbar Winterthur//NONSGML kigkonsult.se iCalcreator 2.41.92//
CALSCALE:GREGORIAN
METHOD:PUBLISH
UID:33396331-3537-4964-a238-643632396365
X-WR-CALNAME:iCagenda
X-WR-CALDESC:Event Management Extension for Joomla!
X-WR-RELCALID:3E26604A-50F4-4449-8B3E-E4F4932D05B5
X-WR-TIMEZONE:Europe/Zurich
BEGIN:VTIMEZONE
TZID:Europe/Zurich
TZUNTIL:20250330T010000Z
BEGIN:STANDARD
TZNAME:CET
DTSTART:20221030T030000
TZOFFSETFROM:+0200
TZOFFSETTO:+0100
RDATE:20231029T030000
RDATE:20241027T030000
END:STANDARD
BEGIN:DAYLIGHT
TZNAME:CEST
DTSTART:20230326T020000
TZOFFSETFROM:+0100
TZOFFSETTO:+0200
RDATE:20240331T020000
END:DAYLIGHT
END:VTIMEZONE
BEGIN:VEVENT
UID:61376336-3331-4837-b164-313037353162
DTSTAMP:20260419T151046Z
CATEGORIES:Jazz
CLASS:PUBLIC
DESCRIPTION;ALTREP="CID:<FFFF__=0ABBE548DFE235B58f9e8a93d@coffeebean.com>":
 Ganz nach dem allseits bekannten Witz «Treffen sich ein Schwede\, Franzose
 \, Italiener und Deutscher in einer Bar…»\, findet sich hier ein internati
 onales Jazz-Quartett\, das sich zum ersten Mal auf der Zürcher Szene kenne
 ngelernt hat.\nIm gemeinsamen Bestreben die Grenzen der Musik auszuloten\,
  bringt jedes Bandmitglied seine eigenen kulturellen und musikalischen Ein
 flüsse mit.Mit Offenheit für Experimente und Leidenschaft für Innovation i
 st es das Ziel dieses Quartetts\, kulturelle Vielfalt und persönlichen Sti
 l in jedem Stück zu zelebrieren.\nMorgan Wärn (g)\, François Lana (p)\, Gi
 anni Narduzzi (db)\, Samir Böhringer (dr)\nhttps://www.samirboehringer.com
DTSTART:20230504T181500Z
DTEND:20230504T181500Z
GEO:00;0
LOCATION:
ORGANIZER:
SEQUENCE:1
SUMMARY:Narduzzi / Lana / Wärn / Böhringer
TRANSP:OPAQUE
URL:https://www.esse.bar/index.php/veranstaltungen/vergangene-veranstaltung
 en/1824-tba-34/2023-05-04-20-15
END:VEVENT
END:VCALENDAR
