BEGIN:VCALENDAR
VERSION:2.0
PRODID:-//ESSE Musicbar Winterthur//NONSGML kigkonsult.se iCalcreator 2.41.92//
CALSCALE:GREGORIAN
METHOD:PUBLISH
UID:37333132-3761-4865-b634-353366663363
X-WR-CALNAME:iCagenda
X-WR-CALDESC:Event Management Extension for Joomla!
X-WR-RELCALID:3E26604A-50F4-4449-8B3E-E4F4932D05B5
X-WR-TIMEZONE:Europe/Zurich
BEGIN:VTIMEZONE
TZID:Europe/Zurich
TZUNTIL:20250330T010000Z
BEGIN:STANDARD
TZNAME:CET
DTSTART:20221030T030000
TZOFFSETFROM:+0200
TZOFFSETTO:+0100
RDATE:20231029T030000
RDATE:20241027T030000
END:STANDARD
BEGIN:DAYLIGHT
TZNAME:CEST
DTSTART:20230326T020000
TZOFFSETFROM:+0100
TZOFFSETTO:+0200
RDATE:20240331T020000
END:DAYLIGHT
END:VTIMEZONE
BEGIN:VEVENT
UID:37336631-3538-4937-b831-376162313435
DTSTAMP:20260419T151758Z
CATEGORIES:Jazz
CLASS:PUBLIC
DESCRIPTION;ALTREP="CID:<FFFF__=0ABBE548DFE235B58f9e8a93d@coffeebean.com>":
 «Eine Liebeserklärung an den afrikanischen Kontinent.»\nSüdafrika trifft a
 uf Jazz! Nach zahlreichen Tourneen und vier Alben steht die Jazzformation 
 PLURISM mit einem neuen Line-up auf der Bühne: Der Schlagzeuger Dominic Eg
 li hat den Bassisten Raffaele Bossard\, den Trompeter Feya Faku und die he
 rausragenden Saxophonisten der jungen Generation Südafrikas\, Mthunzi Mvub
 u und Sisonke Xonti\, um sich geschart.\nIhr stimmiger Sound vereint Einfl
 üsse verschiedener Traditionen und individuelle Statements. Das von der Pr
 esse hoch gelobte neue\, fünfte Album «Azania in Mind» zeichnet sich durch
  raue Sinnlichkeit\, Gelassenheit und erdige Verspieltheit aus. «Plurism» 
 vereint Einflüsse verschiedener Traditionen\, kollektive Improvisationen u
 nd individuelle Statements zu einem stimmigen Klangbild.\nFeya Faku (tp)\,
  Mthunzi Mvubu (as\,fl)\, Sisonke Xonti (ts)\, Raffaele Bossard (db)\, Dom
 inic Egli (dr)\nhttp://www.dominicegli.ch/site/plurism.php
DTSTART:20230505T181500Z
DTEND:20230505T181500Z
GEO:00;0
LOCATION:
ORGANIZER:
SEQUENCE:1
SUMMARY:Dominic Egli PLURISM – «Intlanganiso»
TRANSP:OPAQUE
URL:https://www.esse.bar/index.php/veranstaltungen/vergangene-veranstaltung
 en/1825-dominic-egli-plurism/2023-05-05-20-15
END:VEVENT
END:VCALENDAR
