BEGIN:VCALENDAR
VERSION:2.0
PRODID:-//ESSE Musicbar Winterthur//NONSGML kigkonsult.se iCalcreator 2.41.92//
CALSCALE:GREGORIAN
METHOD:PUBLISH
UID:32313964-6666-4462-a465-313362333263
X-WR-CALNAME:iCagenda
X-WR-CALDESC:Event Management Extension for Joomla!
X-WR-RELCALID:3E26604A-50F4-4449-8B3E-E4F4932D05B5
X-WR-TIMEZONE:Europe/Zurich
BEGIN:VTIMEZONE
TZID:Europe/Zurich
TZUNTIL:20250330T010000Z
BEGIN:STANDARD
TZNAME:CET
DTSTART:20221030T030000
TZOFFSETFROM:+0200
TZOFFSETTO:+0100
RDATE:20231029T030000
RDATE:20241027T030000
END:STANDARD
BEGIN:DAYLIGHT
TZNAME:CEST
DTSTART:20230326T020000
TZOFFSETFROM:+0100
TZOFFSETTO:+0200
RDATE:20240331T020000
END:DAYLIGHT
END:VTIMEZONE
BEGIN:VEVENT
UID:64353834-6231-4539-b136-306134353266
DTSTAMP:20260419T135019Z
CATEGORIES:Jazz
CLASS:PUBLIC
DESCRIPTION;ALTREP="CID:<FFFF__=0ABBE548DFE235B58f9e8a93d@coffeebean.com>":
 Juan Pablo Navarro gilt bei Fachkritikern\, Kollegen und Fans als einer de
 r besten Vertreter der weltweiten Tango Nuevo-Szene. Immer wieder stellt e
 r hochkarätige Ensembles zusammen\, und beim bevorstehenden Debüt seines n
 euen Ensembles im Pariser Jazzclub 'Le Triton' sowie beim Konzert in Esse-
 Winterthur wird Juan Pablos Kontrabass mit dem Bandoneón des berühmten Jua
 njo Mosalinis\, dem Klavier von Xavier Gainches und der Gitarre von Julio 
 Azcano zu hören sein.\nNavarros Kompositionen und Arrangements sind kraftv
 oll\, intim und Synonym für den neuen Sound von Buenos Aires. Visiones Pan
 démicas ist eine Reihe von Kompositionen\, die in einer Zeit der Enge und 
 Unsicherheit entstanden sind. Einige sind flüchtige Gedanken\, andere erfo
 rschen nächtliche Unsicherheiten. Kurz gesagt\, die menschliche Reaktion a
 uf den Abgrund des Unbekannten.\nJuanjo Mosalinis (Bandoneon)\, Julio Azca
 no (g)\, Xavier Gainches (p)\, Juan Pablo Navarro (db)\nhttps://www.youtub
 e.com/user/kichotangohttps://www.facebook.com/juanpablonavarrosepteto/\n 
 \n 
DTSTART:20230511T181500Z
DTEND:20230511T181500Z
GEO:00;0
LOCATION:
ORGANIZER:
SEQUENCE:1
SUMMARY:Juan Pablo Navarro Quartet – «Tango Nuevo»
TRANSP:OPAQUE
URL:https://www.esse.bar/index.php/veranstaltungen/vergangene-veranstaltung
 en/1828-juan-pablo-navarro-tango-group/2023-05-11-20-15
END:VEVENT
END:VCALENDAR
