BEGIN:VCALENDAR
VERSION:2.0
PRODID:-//ESSE Musicbar Winterthur//NONSGML kigkonsult.se iCalcreator 2.41.92//
CALSCALE:GREGORIAN
METHOD:PUBLISH
UID:62306332-6633-4462-a362-323730333164
X-WR-CALNAME:iCagenda
X-WR-CALDESC:Event Management Extension for Joomla!
X-WR-RELCALID:3E26604A-50F4-4449-8B3E-E4F4932D05B5
X-WR-TIMEZONE:Europe/Zurich
BEGIN:VTIMEZONE
TZID:Europe/Zurich
TZUNTIL:20241027T010000Z
BEGIN:STANDARD
TZNAME:CET
DTSTART:20221030T030000
TZOFFSETFROM:+0200
TZOFFSETTO:+0100
RDATE:20231029T030000
END:STANDARD
BEGIN:DAYLIGHT
TZNAME:CEST
DTSTART:20230326T020000
TZOFFSETFROM:+0100
TZOFFSETTO:+0200
RDATE:20240331T020000
END:DAYLIGHT
END:VTIMEZONE
BEGIN:VEVENT
UID:66343430-3032-4762-a236-613064353034
DTSTAMP:20260419T151356Z
CATEGORIES:young people on stage
CLASS:PUBLIC
DESCRIPTION;ALTREP="CID:<FFFF__=0ABBE548DFE235B58f9e8a93d@coffeebean.com>":
 Die Jugendmusikschule Winterthur und Umgebung präsentiert:\nLos Merineros 
 sind drei Geschwister aus der Region Winterthur.Loïc\, Noah und Sarah Meri
 nero spielen unterschiedliche Musik aus den Bereichen Rock\, Pop und Jazz.
  Schon seit klein auf waren sie musikbegeisterte Kinder\, heute spielen si
 e auf mehreren Instrumenten wie Klavier\, Gesang\, Bass\, Gitarre &amp\; S
 chlagzeug.Die Winterthurer Band Fab4 ist fabelhaft. Die vier jungen Musike
 r:innen musizieren mit grosser Spielfreude und Leidenschaft. Sie lieben es
 \, treibende Rocknummern zu zelebrieren und eifern ihren grossen Idolen na
 ch. Die Mitglieder werden von ihrem JMSW-Coach Christoph Battaglia unterst
 ützt:Yana Zhou\, E-Bass | Jeremy Huber\, E-Gitarre | Torben Gondorf\, Gita
 rre\, Gesang | Nils Stäuber\, Schlagzeug
DTSTART:20230425T173000Z
DTEND:20230425T173000Z
GEO:00;0
LOCATION:
ORGANIZER:
SEQUENCE:1
SUMMARY:Young People On Stage
TRANSP:OPAQUE
URL:https://www.esse.bar/index.php/veranstaltungen/vergangene-veranstaltung
 en/1830-resonanz-probespiel-pop-rock-9/2023-04-25-19-30
END:VEVENT
END:VCALENDAR
