BEGIN:VCALENDAR
VERSION:2.0
PRODID:-//ESSE Musicbar Winterthur//NONSGML kigkonsult.se iCalcreator 2.41.92//
CALSCALE:GREGORIAN
METHOD:PUBLISH
UID:65656239-6136-4139-b863-353663373636
X-WR-CALNAME:iCagenda
X-WR-CALDESC:Event Management Extension for Joomla!
X-WR-RELCALID:3E26604A-50F4-4449-8B3E-E4F4932D05B5
X-WR-TIMEZONE:Europe/Zurich
BEGIN:VTIMEZONE
TZID:Europe/Zurich
TZUNTIL:20250330T010000Z
BEGIN:STANDARD
TZNAME:CET
DTSTART:20221030T030000
TZOFFSETFROM:+0200
TZOFFSETTO:+0100
RDATE:20231029T030000
RDATE:20241027T030000
END:STANDARD
BEGIN:DAYLIGHT
TZNAME:CEST
DTSTART:20230326T020000
TZOFFSETFROM:+0100
TZOFFSETTO:+0200
RDATE:20240331T020000
END:DAYLIGHT
END:VTIMEZONE
BEGIN:VEVENT
UID:65336535-3964-4439-b661-326466656465
DTSTAMP:20260419T135412Z
CATEGORIES:Blues
CLASS:PUBLIC
DESCRIPTION;ALTREP="CID:<FFFF__=0ABBE548DFE235B58f9e8a93d@coffeebean.com>":
 «Blues ist in seiner musikalischen Form vielleicht einfach\, aber gerade d
 as ermöglicht es\, diese Musik im Zusammenspiel der Musiker spontan immer 
 wieder neu zu schaffen.» - Mojo Buford\nKurt Bislin und Tino Forlin sind z
 urück in der ESSE. Das «Genuine Blues Duo» geht weit zurück zu den Wurzeln
  des Blues\, bar aller Anklänge an all die heute modernen Ausprägungen die
 ses Genres. Im Repertoire des Duos finden sich Songs aus dem reichen Fundu
 s des Blues der letzten hundert Jahre\, eigene Kompositionen und auch mal 
 die eine oder andere Southern-Soul-Trouvaille. Ein Augenmerk liegt dabei a
 uf dem Blues aus Louisiana und New Orleans.\nAls Special Guest haben die b
 eiden diesmal Egidio 'Juke' Ingala – Blues-Harmonica extraordinaire – eing
 eladen. Einem würdigen Live-Tatort steht also wieder nichts im Wege…\nKurt
  Bislin (g\, voc)\, Tino Forlin (keyb)Special Guest: Egidio 'Juke' Ingala 
 (harp)\nhttps://www.burrobeat.com/bislin-forlin/www.egidioingala.com
DTSTART:20230611T173000Z
DTEND:20230611T173000Z
GEO:00;0
LOCATION:
ORGANIZER:
SEQUENCE:1
SUMMARY:Bislin & Forlin feat. Egidio 'Juke' Ingala
TRANSP:OPAQUE
URL:https://www.esse.bar/index.php/veranstaltungen/vergangene-veranstaltung
 en/1849-bislin-forlin-feat-egidio-juke-ingala-blues-ist-in-seiner-musikali
 schen-form-vielleicht-einfach-aber-gerade-das-ermoeglicht-es-diese-musik-i
 m-zusammenspiel-der-musiker-spontan-immer-wieder-neu-zu-schaffen-mojo-bufo
 rd-kurt-bislin-und-tino-forl/2023-06-11-19-30
END:VEVENT
END:VCALENDAR
