BEGIN:VCALENDAR
VERSION:2.0
PRODID:-//ESSE Musicbar Winterthur//NONSGML kigkonsult.se iCalcreator 2.41.92//
CALSCALE:GREGORIAN
METHOD:PUBLISH
UID:37356463-3761-4937-b064-393535306638
X-WR-CALNAME:iCagenda
X-WR-CALDESC:Event Management Extension for Joomla!
X-WR-RELCALID:3E26604A-50F4-4449-8B3E-E4F4932D05B5
X-WR-TIMEZONE:Europe/Zurich
BEGIN:VTIMEZONE
TZID:Europe/Zurich
TZUNTIL:20250330T010000Z
BEGIN:STANDARD
TZNAME:CET
DTSTART:20221030T030000
TZOFFSETFROM:+0200
TZOFFSETTO:+0100
RDATE:20231029T030000
RDATE:20241027T030000
END:STANDARD
BEGIN:DAYLIGHT
TZNAME:CEST
DTSTART:20230326T020000
TZOFFSETFROM:+0100
TZOFFSETTO:+0200
RDATE:20240331T020000
END:DAYLIGHT
END:VTIMEZONE
BEGIN:VEVENT
UID:38636235-6634-4139-b439-643932323031
DTSTAMP:20260419T135127Z
CATEGORIES:Jazz
CLASS:PUBLIC
DESCRIPTION;ALTREP="CID:<FFFF__=0ABBE548DFE235B58f9e8a93d@coffeebean.com>":
 Whitney Houston. Eminem. Britney Spears. Oasis. Backstreet Boys. Robbie Wi
 lliams. Ein Who-is-who der Populärmusik der letzten 40 Jahre. Vier Jahrzeh
 nte voller Charthits\, die die Fans in die Ohnmacht und deren Geld aus der
  Tasche beförderten.\nAuch die Musiker von «The Sad Pumpkins» tragen diese
  Songs als prägende Erinnerungen in ihren Seelen. Als Liebesbrief\, verfas
 st mit 14 Jahren\, begleitet von herzzerreissenden Klängen aus «I Will Alw
 ays Love You». Als den ersten Kuss auf die Wange\, während Beyoncés «Crazy
  in Love» aus dem Lautsprecher plärrt. Als die Enttäuschung über die eigen
 en zwei linken Füsse\, während die Backstreet Boys sich auf MTV aus ihren 
 Latschen tanzen.\nDiese Erlebnisse\, eine stürmische Songmischung aus adol
 eszenten Sehnsüchten\, lästigen Pickeln und zu schnell verbrauchtem Tasche
 ngeld\, all dies führte «The Sad Pumpkins» zu ihrem neusten Programm: «Gre
 atest Hits». Kein Megastar\, kein One-hit-wonder und keine Chartstürmerin 
 ist vor der Jazzmühle sicher\, durch die Niculin\, Noam\, Mischa und Maxim
 e ihre pubertäre Vergangenheit zwingen. So werden «Oasis» mit Sambaklängen
  garniert\, «Sting» schaukelt im Medium Swing daher und «George Michael» v
 ersucht sich am Bossa Nova. Dies alles natürlich mit der unverkennbaren ir
 onischen Coolness\, wie nur «The Sad Pumpkins» sie zu vermitteln vermögen.
 \nNiculin Janett (voc\, s)\, Noam Szyfer (g)\, Mischa Frey (db)\, Maxime P
 aratte (dr)\nhttp://www.niculinjanett.chhttps://www.noamszyfer.ch \n 
DTSTART:20230525T181500Z
DTEND:20230525T181500Z
GEO:00;0
LOCATION:
ORGANIZER:
SEQUENCE:1
SUMMARY:The Sad Pumpkins – «Greatest Hits»
TRANSP:OPAQUE
URL:https://www.esse.bar/index.php/veranstaltungen/vergangene-veranstaltung
 en/1850-the-sad-pumpkins-greatest-hits/2023-05-25-20-15
END:VEVENT
END:VCALENDAR
