BEGIN:VCALENDAR
VERSION:2.0
PRODID:-//ESSE Musicbar Winterthur//NONSGML kigkonsult.se iCalcreator 2.41.92//
CALSCALE:GREGORIAN
METHOD:PUBLISH
UID:32366165-6438-4163-b363-663934623031
X-WR-CALNAME:iCagenda
X-WR-CALDESC:Event Management Extension for Joomla!
X-WR-RELCALID:3E26604A-50F4-4449-8B3E-E4F4932D05B5
X-WR-TIMEZONE:Europe/Zurich
BEGIN:VTIMEZONE
TZID:Europe/Zurich
TZUNTIL:20250330T010000Z
BEGIN:STANDARD
TZNAME:CET
DTSTART:20221030T030000
TZOFFSETFROM:+0200
TZOFFSETTO:+0100
RDATE:20231029T030000
RDATE:20241027T030000
END:STANDARD
BEGIN:DAYLIGHT
TZNAME:CEST
DTSTART:20230326T020000
TZOFFSETFROM:+0100
TZOFFSETTO:+0200
RDATE:20240331T020000
END:DAYLIGHT
END:VTIMEZONE
BEGIN:VEVENT
UID:62383565-6639-4233-a237-353665613833
DTSTAMP:20260419T133646Z
CATEGORIES:Jazz
CLASS:PUBLIC
DESCRIPTION;ALTREP="CID:<FFFF__=0ABBE548DFE235B58f9e8a93d@coffeebean.com>":
 Reibungswärme gärt am längsten: Für BBQ\, sein Quartett\, hat sich der Sax
 ophonist Bastian Brugger drei Mitmusiker ausgesucht\, die ganz unterschied
 liche Einflüsse und Spielroutinen mitbringen. Auf der Bühne fusionieren di
 e Geschmäcker und Gedanken\, die Ideale und Ideen zu einem knisternden Gan
 zen\, einer unbedingt eigenen Ästhetik: Zwischen Punk und Jazz\, Funk und 
 freier Improvisation\, zwischen amorphen Grooves und kristallklaren Lines\
 , holen die Kompositionen der Bandmitglieder den Geist der Gemeinschaft in
 s musikalische Jetzt.\n«Bastian Bruggers Saxofon entfaltet eine fasziniere
 nde Atmosphäre …»\, schreibt der Stuttgarter Südkurier über einen Auftritt
  des energiegeladenen Saxofonisten mit Wohnsitz in der Landeshauptstadt. M
 odern-Jazz in groovender Frische oder getragener Anmut prägen seine Stücke
 . Mit viel Platz für Improvisation\, nimmt uns die Band und ihr packendes 
 Repertoire mit auf eine fantasievolle musikalische Reise.«BBQ» steht für k
 ristallklare Lines und gute Grooves und ganz wichtig: für Genuss und eine 
 gute Zeit mit Freunden.\nBastian Brugger (ts\,ss\,fl)\, Moritz Langmaier (
 rhodes)\, Jan Kappes (b)\, Lucas Klein (dr)\nhttps://www.bastianbrugger.de
 /bands/bbq/
DTSTART:20230602T181500Z
DTEND:20230602T181500Z
GEO:00;0
LOCATION:
ORGANIZER:
SEQUENCE:1
SUMMARY:BBQ – Bastian Brugger Quartett
TRANSP:OPAQUE
URL:https://www.esse.bar/index.php/veranstaltungen/vergangene-veranstaltung
 en/1857-bbq-bastian-brugger-quartett/2023-06-02-20-15
END:VEVENT
END:VCALENDAR
