BEGIN:VCALENDAR
VERSION:2.0
PRODID:-//ESSE Musicbar Winterthur//NONSGML kigkonsult.se iCalcreator 2.41.92//
CALSCALE:GREGORIAN
METHOD:PUBLISH
UID:34653464-3666-4466-b836-326132353339
X-WR-CALNAME:iCagenda
X-WR-CALDESC:Event Management Extension for Joomla!
X-WR-RELCALID:3E26604A-50F4-4449-8B3E-E4F4932D05B5
X-WR-TIMEZONE:Europe/Zurich
BEGIN:VTIMEZONE
TZID:Europe/Zurich
TZUNTIL:20250330T010000Z
BEGIN:STANDARD
TZNAME:CET
DTSTART:20221030T030000
TZOFFSETFROM:+0200
TZOFFSETTO:+0100
RDATE:20231029T030000
RDATE:20241027T030000
END:STANDARD
BEGIN:DAYLIGHT
TZNAME:CEST
DTSTART:20230326T020000
TZOFFSETFROM:+0100
TZOFFSETTO:+0200
RDATE:20240331T020000
END:DAYLIGHT
END:VTIMEZONE
BEGIN:VEVENT
UID:34383532-6639-4164-a661-633236653237
DTSTAMP:20260419T133809Z
CATEGORIES:Jazz
CLASS:PUBLIC
DESCRIPTION;ALTREP="CID:<FFFF__=0ABBE548DFE235B58f9e8a93d@coffeebean.com>":
 Man findet kaum eine Musikerin in der Schweiz\, die eine solche Vielseitig
 keit und Verspieltheit in ihrer Musik aufweist und welche in ihrer Kunst e
 inen so völlig eigenen Stil entwickelt hat. Die auf den Kanaren lebende «M
 onadelisa» überrascht live immer wieder.\nMit viel Hingabe und Gefühl\, ei
 ner filigranen Spielweise und ihrem total eigenen Gesangsausdruck\, vermag
  sie ihr Publikum zu begeistern. Ihre Musik hat eine Authentizität\, die i
 hresgleichen sucht. Mal melancholisch\, mal nachdenklich oder dann wieder 
 freudig-groovig\, all dies strahlen die Bilder aus\, die ein Konzert aufko
 mmen lässt\, stilmässig eben einfach «Monadelisa».\nIhre Musik und Arrange
 ments werden wie schon letztes Jahr von einer hochkarätig besetzten Band a
 us Schweizer Jazzmusikern begleitet. In diesem Jahr bringt sie zusätzlich 
 als Special Guest die kubanische Cellistin Cary Varona aus La Palma mit. A
 uf die unterschiedlichen Klangfarben darf man sehr gespannt sein.\nMonadel
 isa (Gitarre und Gesang)\, Cary Varona (Violoncello)\, Beat Bossart (Tromp
 ete und Flügelhorn)\,Thomas Silvestri (Piano)\, Andi Hinz (Schlagzeug und 
 Perkussion)\nhttp://monadelisa.com
DTSTART:20230609T181500Z
DTEND:20230609T181500Z
GEO:00;0
LOCATION:
ORGANIZER:
SEQUENCE:1
SUMMARY:Monadelisa & Crew
TRANSP:OPAQUE
URL:https://www.esse.bar/index.php/veranstaltungen/vergangene-veranstaltung
 en/1858-monadelisa-crew/2023-06-09-20-15
END:VEVENT
END:VCALENDAR
