BEGIN:VCALENDAR
VERSION:2.0
PRODID:-//ESSE Musicbar Winterthur//NONSGML kigkonsult.se iCalcreator 2.41.92//
CALSCALE:GREGORIAN
METHOD:PUBLISH
UID:36376232-6133-4938-a435-636162303630
X-WR-CALNAME:iCagenda
X-WR-CALDESC:Event Management Extension for Joomla!
X-WR-RELCALID:3E26604A-50F4-4449-8B3E-E4F4932D05B5
X-WR-TIMEZONE:Europe/Zurich
BEGIN:VTIMEZONE
TZID:Europe/Zurich
TZUNTIL:20250330T010000Z
BEGIN:STANDARD
TZNAME:CET
DTSTART:20221030T030000
TZOFFSETFROM:+0200
TZOFFSETTO:+0100
RDATE:20231029T030000
RDATE:20241027T030000
END:STANDARD
BEGIN:DAYLIGHT
TZNAME:CEST
DTSTART:20230326T020000
TZOFFSETFROM:+0100
TZOFFSETTO:+0200
RDATE:20240331T020000
END:DAYLIGHT
END:VTIMEZONE
BEGIN:VEVENT
UID:66333862-3936-4564-a438-303935663361
DTSTAMP:20260419T133956Z
CATEGORIES:Jazz
CLASS:PUBLIC
DESCRIPTION;ALTREP="CID:<FFFF__=0ABBE548DFE235B58f9e8a93d@coffeebean.com>":
 Alessandro D’Episcopo Trio\nBeim Alessandro D‘Episcopo Trio sind drei Hoch
 karäter am Werk. Lauter ¬Virtuosen. Der Namensgeber spielt Klavier\, Haemi
  Haemmerli\, Double-Bass und Elmar Frey bedient das Schlagzeug. Jazzfreund
 :innen kennen diese Persönlichkeiten von manchen Jazzformationen her.\nBei
  ihren Liveauftritten offenbart dieses Trio grosse Spielfreude und eine un
 bändige Lust am Experimentieren. Jeder Auftritt des Trios ist darum ein Un
 ikat. Keiner ist wie der andere. Man darf sich mit Garantie auf ein mitrei
 ssendes und musikalisch hochstehendes Konzert freuen\, diesmal ist Alessan
 dro der Leader.\nDer Pianist Alessandro d'Episcopo ist 1959 in Neapel gebo
 ren. Dort\, am Konservatorium 'S.Pietro a Majella'\, begann er ein klassis
 ches Musikstudium. Später übersiedelte er in die Schweiz\, wo er 1994 den 
 Diplomabschluss an der Sektion Jazz des Konservatoriums Montreux erhielt.
 \nÜber viele Jahre haben die drei Musiker ihr gegenseitiges Verständnis be
 i zahlreichen Gigs und Jamsessions\, welches auch zur Produktion von drei 
 CDs geführt hat\, vertieft. Italienische Kompositionen\, Eigenkompositione
 n und natürlich Jazz-Standards sind die Quelle der improvisierten Ausflüge
  des Trios. Im vielfältigen Repertoire seines Piano-Trios bezieht sich d’E
 piscopo dabei einerseits auf die reichhaltige musikalische Tradition seine
 r Heimat\, andererseits reflektiert er die Innovationen seiner Lieblingspi
 anisten Keith Jarrett und Chick Corea – ein höchst attraktiver Mix ist gar
 antiert!\nAllesandro d’Episcopo (p)\, Hämi Hämmerli (cb)\, Elmar Frey (dr)
 \nhttps://alessandrodepiscopo.com/home
DTSTART:20230608T181500Z
DTEND:20230608T181500Z
GEO:00;0
LOCATION:
ORGANIZER:
SEQUENCE:1
SUMMARY:Alessandro D’Episcopo Trio
TRANSP:OPAQUE
URL:https://www.esse.bar/index.php/veranstaltungen/vergangene-veranstaltung
 en/1860-alessandro-d-episcopo-trio-2/2023-06-08-20-15
END:VEVENT
END:VCALENDAR
