BEGIN:VCALENDAR
VERSION:2.0
PRODID:-//ESSE Musicbar Winterthur//NONSGML kigkonsult.se iCalcreator 2.41.92//
CALSCALE:GREGORIAN
METHOD:PUBLISH
UID:37656131-6532-4535-b363-303939316432
X-WR-CALNAME:iCagenda
X-WR-CALDESC:Event Management Extension for Joomla!
X-WR-RELCALID:3E26604A-50F4-4449-8B3E-E4F4932D05B5
X-WR-TIMEZONE:Europe/Zurich
BEGIN:VTIMEZONE
TZID:Europe/Zurich
TZUNTIL:20250330T010000Z
BEGIN:STANDARD
TZNAME:CET
DTSTART:20221030T030000
TZOFFSETFROM:+0200
TZOFFSETTO:+0100
RDATE:20231029T030000
RDATE:20241027T030000
END:STANDARD
BEGIN:DAYLIGHT
TZNAME:CEST
DTSTART:20230326T020000
TZOFFSETFROM:+0100
TZOFFSETTO:+0200
RDATE:20240331T020000
END:DAYLIGHT
END:VTIMEZONE
BEGIN:VEVENT
UID:63313961-6437-4063-b261-326666343536
DTSTAMP:20260419T134931Z
CATEGORIES:Blues
CLASS:PUBLIC
DESCRIPTION;ALTREP="CID:<FFFF__=0ABBE548DFE235B58f9e8a93d@coffeebean.com>":
 Die vier Blueser gehören zu den Urgesteinen der Frauenfelder Musikszene un
 d wirkten seit Jahrzenten in vielen früheren Bands\, wie «Waidele's Conver
 sation»\, «Lennox CF»\, «Galgevögel»\, «Wallbanger Jazzgroup» und vielen m
 ehr. Nun haben sie sich wieder zusammen gefunden\, um gemeinsam erdigen\, 
 groovigen Blues zu spielen.\nAllen voran Guscht Schmid\, «Mr. Pure Blues» 
 himself\, prägt die Band mit seiner markanten Stimme\, seiner fetzigen Har
 p und natürlich mit dem vielsaitigen Klang seiner Gitarre. Aber auch Marti
 n Beerli hat dank seinem virtuosen Tastenspiel einen wesentlichen Anteil a
 m eigenständigen Groove der Band\, während der markige Bass von Globi Stra
 ub und Billy Schmid mit seinen knackigen Drums mit viel Drive den passende
 n Boden legen für den eingängigen und vom Publikum geliebten Livesound der
  vier Bluesmänner.\nLet’s groove and enjoy the real Blues!\nGuscht Schmid 
 (g\, voc\, harp)\, Martin Beerli (p\, keyb)\, Globi Straub (b)\, Billy Sch
 mid (dr)\nhttps://mr-pure-blues.com
DTSTART:20230618T173000Z
DTEND:20230618T173000Z
GEO:00;0
LOCATION:
ORGANIZER:
SEQUENCE:1
SUMMARY:Pure Blues
TRANSP:OPAQUE
URL:https://www.esse.bar/index.php/veranstaltungen/vergangene-veranstaltung
 en/1861-pureblues/2023-06-18-19-30
END:VEVENT
END:VCALENDAR
