BEGIN:VCALENDAR
VERSION:2.0
PRODID:-//ESSE Musicbar Winterthur//NONSGML kigkonsult.se iCalcreator 2.41.92//
CALSCALE:GREGORIAN
METHOD:PUBLISH
UID:31393931-3365-4666-a365-373864356336
X-WR-CALNAME:iCagenda
X-WR-CALDESC:Event Management Extension for Joomla!
X-WR-RELCALID:3E26604A-50F4-4449-8B3E-E4F4932D05B5
X-WR-TIMEZONE:Europe/Zurich
BEGIN:VTIMEZONE
TZID:Europe/Zurich
TZUNTIL:20251026T010000Z
BEGIN:STANDARD
TZNAME:CET
DTSTART:20231029T030000
TZOFFSETFROM:+0200
TZOFFSETTO:+0100
RDATE:20241027T030000
END:STANDARD
BEGIN:DAYLIGHT
TZNAME:CEST
DTSTART:20230326T020000
TZOFFSETFROM:+0100
TZOFFSETTO:+0200
RDATE:20240331T020000
RDATE:20250330T020000
END:DAYLIGHT
END:VTIMEZONE
BEGIN:VEVENT
UID:66633636-3564-4266-b531-323866376638
DTSTAMP:20260423T085849Z
CATEGORIES:Folk & More
CLASS:PUBLIC
DESCRIPTION;ALTREP="CID:<FFFF__=0ABBE548DFE235B58f9e8a93d@coffeebean.com>":
 Die Musik von Conny\, gepfeffert mit Omars Rhythmen ergeben ein Menü\, das
 s man sich auf keinen Fall entgehen lassen sollte! Die Zutaten stammen aus
  verschiedensten Erdteilen und Stilrichtungen und ergeben ein harmonisches
  und äusserst vielseitiges Erlebnis\, dass von der deftigen Schärfe eines 
 Gulasch-Eintopfs bis zur schmelzenden Leichtigkeit einer Zitronenmousse ke
 ine Wünsche offen lässt.\nHier kommt Soulfood vom feinsten. Die beiden Top
 -Musiker:innen (Omar ist mit der Créme de la Créme unserer Musikszene des 
 öfteren auf grossen Bühnen zu sehen und Conny hat in Spanien mit Stars des
  Blues\, Funk und Souls getourt) ergänzen sich wie Chili und Schokolade. A
 ufregend\, überraschend\, prickelnd und... spicy!\nConny Resch (vocals and
  piano)Omar Djadji (drums\, percussion and bass)\nhttps://connyresch.weebl
 y.com
DTSTART:20231203T183000Z
DTEND:20231203T183000Z
GEO:00;0
LOCATION:
ORGANIZER:
SEQUENCE:1
SUMMARY:Spicy Soundkitchen
TRANSP:OPAQUE
URL:https://www.esse.bar/index.php/veranstaltungen/vergangene-veranstaltung
 en/1862-spicy-soundkitchen/2023-12-03-19-30
END:VEVENT
END:VCALENDAR
