BEGIN:VCALENDAR
VERSION:2.0
PRODID:-//ESSE Musicbar Winterthur//NONSGML kigkonsult.se iCalcreator 2.41.92//
CALSCALE:GREGORIAN
METHOD:PUBLISH
UID:66383961-3137-4932-a138-393737323166
X-WR-CALNAME:iCagenda
X-WR-CALDESC:Event Management Extension for Joomla!
X-WR-RELCALID:3E26604A-50F4-4449-8B3E-E4F4932D05B5
X-WR-TIMEZONE:Europe/Zurich
BEGIN:VTIMEZONE
TZID:Europe/Zurich
TZUNTIL:20250330T010000Z
BEGIN:STANDARD
TZNAME:CET
DTSTART:20221030T030000
TZOFFSETFROM:+0200
TZOFFSETTO:+0100
RDATE:20231029T030000
RDATE:20241027T030000
END:STANDARD
BEGIN:DAYLIGHT
TZNAME:CEST
DTSTART:20230326T020000
TZOFFSETFROM:+0100
TZOFFSETTO:+0200
RDATE:20240331T020000
END:DAYLIGHT
END:VTIMEZONE
BEGIN:VEVENT
UID:64623939-6565-4135-b938-363538646466
DTSTAMP:20260419T134258Z
CATEGORIES:young people on stage
CLASS:PUBLIC
DESCRIPTION;ALTREP="CID:<FFFF__=0ABBE548DFE235B58f9e8a93d@coffeebean.com>":
 Handverlesene junge Talente der Jugendmusikschule und des Konservatoriums 
 begeistern mit abwechslungsreichen Hits aus Jazz\, Pop und Rock in Clubatm
 osphäre.\nAlle Musikfreuninnen und Musikfreunde sind herzlich willkommen.
 \nPDF-Flyer
DTSTART:20230523T173000Z
DTEND:20230523T173000Z
GEO:00;0
LOCATION:
ORGANIZER:
SEQUENCE:1
SUMMARY:Förderkonzert: Hits aus Jazz\, Pop und Rock
TRANSP:OPAQUE
URL:https://www.esse.bar/index.php/veranstaltungen/vergangene-veranstaltung
 en/1863-foerderkonzert-jazz-pop-rock-2/2023-05-23-19-30
END:VEVENT
END:VCALENDAR
