BEGIN:VCALENDAR
VERSION:2.0
PRODID:-//ESSE Musicbar Winterthur//NONSGML kigkonsult.se iCalcreator 2.41.92//
CALSCALE:GREGORIAN
METHOD:PUBLISH
UID:61373765-3839-4435-b831-623663613333
X-WR-CALNAME:iCagenda
X-WR-CALDESC:Event Management Extension for Joomla!
X-WR-RELCALID:3E26604A-50F4-4449-8B3E-E4F4932D05B5
X-WR-TIMEZONE:Europe/Zurich
BEGIN:VTIMEZONE
TZID:Europe/Zurich
TZUNTIL:20250330T010000Z
BEGIN:STANDARD
TZNAME:CET
DTSTART:20221030T030000
TZOFFSETFROM:+0200
TZOFFSETTO:+0100
RDATE:20231029T030000
RDATE:20241027T030000
END:STANDARD
BEGIN:DAYLIGHT
TZNAME:CEST
DTSTART:20230326T020000
TZOFFSETFROM:+0100
TZOFFSETTO:+0200
RDATE:20240331T020000
END:DAYLIGHT
END:VTIMEZONE
BEGIN:VEVENT
UID:39633663-3566-4165-a430-636332383138
DTSTAMP:20260419T133803Z
CATEGORIES:Jazz
CLASS:PUBLIC
DESCRIPTION;ALTREP="CID:<FFFF__=0ABBE548DFE235B58f9e8a93d@coffeebean.com>":
 Attila Vurals Spiel lädt ein\, ihm auf seinen Klangreisen in die weite Wel
 t musikalischer Begegnungen zu folgen. Dazu stehen mittlerweile achtzehn S
 olo-CD’s bereit – «A Handful of Thoughts» (2004)\, «Painting a Reverie» (2
 007)\, «Some Place of Sounding» (2009)\, «the Last Laugh» (2010)\, «Someth
 ing Plays Like a Child» (2012)\, «According Outside my Room» (2014)\, «Moo
 nbeams Rise as Quavers» (2015)\, «Another Strumming in the Blue» (2016)\, 
 «With Dom at the Meeting Point - A Tribute to Dominic Miller» (2016)\, «th
 e Tenth Hour of Delight» (2017)\, «Encounters at the Riviera» (2018)\, «Ha
 rmonized but Different» (2019)\, «the Rhythm's Deep Whisper» (2020) \, «Th
 at's Why I Play the Guitar (A Fingerstyle Tribute to Gary Moore)» (2020)\,
  «Introducing my BlueLine» (2021)\, «Sonorous in One Quiet Night» (2022)\,
  «Back to Moore (Another Solo Acoustic Guitar Tribute to Gary Moore)» (202
 2) und ganz aktuell «The Real Live Wires Are Talking» (2023) – bei vielen 
 Gelegenheiten ist Vurals perkussive Gitarre aber auch live zu hören: Er tr
 at nicht nur National auf\, sondern auch in den USA\, an der European Acou
 stic Guitar Night im Teatro Goethe-Institut in Rom\, am Internationalen Gi
 tarrenfestival «Open Strings» in Osnabrück und an den Internationalen Neuö
 ttinger Gitarrentage. Unter anderem vertonte er als live Soundtrack\, die 
 Stummfilme «Der letzte Mann» und «Nosferatu» von Friedrich Murnau an der M
 usikfestwoche in Winterthur und am Neisse Film Festival in Görlitz (D).  
 \nOb auf Tonträger oder auf der Bühne: Wer mit Attila Vural die Reise antr
 itt\, wird Orte aufsuchen\, die zu entdecken man einer Solo-Gitarre gar ni
 cht zutrauen würde.\nAttila Vural (g\, harp\, voc)\nhttps://www.lavural.ch
DTSTART:20230526T181500Z
DTEND:20230526T181500Z
GEO:00;0
LOCATION:
ORGANIZER:
SEQUENCE:1
SUMMARY:Attila Vural – «Nicht ohne meine Gitarre»
TRANSP:OPAQUE
URL:https://www.esse.bar/index.php/veranstaltungen/vergangene-veranstaltung
 en/1864-attila-vural-4/2023-05-26-20-15
END:VEVENT
END:VCALENDAR
