BEGIN:VCALENDAR
VERSION:2.0
PRODID:-//ESSE Musicbar Winterthur//NONSGML kigkonsult.se iCalcreator 2.41.92//
CALSCALE:GREGORIAN
METHOD:PUBLISH
UID:61663538-3632-4562-b936-363063663663
X-WR-CALNAME:iCagenda
X-WR-CALDESC:Event Management Extension for Joomla!
X-WR-RELCALID:3E26604A-50F4-4449-8B3E-E4F4932D05B5
X-WR-TIMEZONE:Europe/Zurich
BEGIN:VTIMEZONE
TZID:Europe/Zurich
TZUNTIL:20250330T010000Z
BEGIN:STANDARD
TZNAME:CET
DTSTART:20221030T030000
TZOFFSETFROM:+0200
TZOFFSETTO:+0100
RDATE:20231029T030000
RDATE:20241027T030000
END:STANDARD
BEGIN:DAYLIGHT
TZNAME:CEST
DTSTART:20230326T020000
TZOFFSETFROM:+0100
TZOFFSETTO:+0200
RDATE:20240331T020000
END:DAYLIGHT
END:VTIMEZONE
BEGIN:VEVENT
UID:36643134-3733-4661-b262-306562343065
DTSTAMP:20260419T135257Z
CATEGORIES:Folk & More
CLASS:PUBLIC
DESCRIPTION;ALTREP="CID:<FFFF__=0ABBE548DFE235B58f9e8a93d@coffeebean.com>":
 Die israelische Sängerin und Gitarristin Anat Porat bringt ihren persönlic
 hen und gefühlvollen Folk-Sound auf die ESSE-Bühne. Anats Präsenz und emot
 ionaler Gesang\, kombiniert mit Daniel Wismans herausragendem Gitarrenspie
 l\, schaffen ein intimes und fesselndes Erlebnis für die Zuhörenden.\nDas 
 Duo präsentiert Songs aus Anat Porats kommendem Album «Back To New». Mit z
 arten akustischen Melodien und fesselnden Geschichten fangen die Songs Mom
 ente und Geheimnisse des Lebens ein.\nAnat Porat (voc\, g)\, Daniel Wisman
  (g)\nwww.anatporat.com
DTSTART:20230601T181500Z
DTEND:20230601T181500Z
GEO:00;0
LOCATION:
ORGANIZER:
SEQUENCE:1
SUMMARY:Anat Porat – «Back To New»
TRANSP:OPAQUE
URL:https://www.esse.bar/index.php/veranstaltungen/vergangene-veranstaltung
 en/1865-anat-porat-back-to-new/2023-06-01-20-15
END:VEVENT
END:VCALENDAR
