BEGIN:VCALENDAR
VERSION:2.0
PRODID:-//ESSE Musicbar Winterthur//NONSGML kigkonsult.se iCalcreator 2.41.92//
CALSCALE:GREGORIAN
METHOD:PUBLISH
UID:61633762-3635-4234-a534-313666376639
X-WR-CALNAME:iCagenda
X-WR-CALDESC:Event Management Extension for Joomla!
X-WR-RELCALID:3E26604A-50F4-4449-8B3E-E4F4932D05B5
X-WR-TIMEZONE:Europe/Zurich
BEGIN:VTIMEZONE
TZID:Europe/Zurich
TZUNTIL:20250330T010000Z
BEGIN:STANDARD
TZNAME:CET
DTSTART:20221030T030000
TZOFFSETFROM:+0200
TZOFFSETTO:+0100
RDATE:20231029T030000
RDATE:20241027T030000
END:STANDARD
BEGIN:DAYLIGHT
TZNAME:CEST
DTSTART:20230326T020000
TZOFFSETFROM:+0100
TZOFFSETTO:+0200
RDATE:20240331T020000
END:DAYLIGHT
END:VTIMEZONE
BEGIN:VEVENT
UID:62356566-3836-4266-a536-343038363865
DTSTAMP:20260419T133528Z
CATEGORIES:Jazz
CLASS:PUBLIC
DESCRIPTION;ALTREP="CID:<FFFF__=0ABBE548DFE235B58f9e8a93d@coffeebean.com>":
 Das Zürcher «Sarah-Peng-Quartet» spielt Jazz- und Bluesperlen aus dem Grea
 t American Songbook und eigene Songs. Die Poesie des Liedes steht mit der 
 gradlinigen Stimme der Sängerin Sarah Peng im Vordergrund. Stilsicher verm
 ag sie die Essenz eines Liedes für die Zuhörenden offen zu legen. Der nuan
 cenreiche Klang ihrer Stimme berührt. Egal ob ein Lied mit Schalk\, Ironie
 \, grossen Gefühlen oder Blues versetzt ist – nie lässt diese Stimme Zweif
 el an ihrer Authentizität aufkommen.\nSarah singt\, als wäre das Lied für 
 diesen Moment geschrieben. Zusammen mit ihren drei Mitmusikern\, die sich 
 buchstäblich seit Jahrzehnten kennen\, entsteht eine Musik\, die durch ihr
 e Klarheit eine ungeheure Intensität zu erzeugen vermag. Eine Musik\, die 
 auch einige fast vergessene Lieder des Songbooks zu neuem Leben erweckt: Y
 ou and the night and the music.\nSarah Peng (voc)\, Elmar Kluth (p)\, Tomi
  Hirt (db)\, Fredi Schmid (dr)\nhttps://sarahpeng.ch
DTSTART:20230623T181500Z
DTEND:20230623T181500Z
GEO:00;0
LOCATION:
ORGANIZER:
SEQUENCE:1
SUMMARY:Sarah Peng Quartet
TRANSP:OPAQUE
URL:https://www.esse.bar/index.php/veranstaltungen/vergangene-veranstaltung
 en/1866-sarah-peng-quartet/2023-06-23-20-15
END:VEVENT
END:VCALENDAR
