BEGIN:VCALENDAR
VERSION:2.0
PRODID:-//ESSE Musicbar Winterthur//NONSGML kigkonsult.se iCalcreator 2.41.92//
CALSCALE:GREGORIAN
METHOD:PUBLISH
UID:63313163-6233-4164-b562-613936336365
X-WR-CALNAME:iCagenda
X-WR-CALDESC:Event Management Extension for Joomla!
X-WR-RELCALID:3E26604A-50F4-4449-8B3E-E4F4932D05B5
X-WR-TIMEZONE:Europe/Zurich
BEGIN:VTIMEZONE
TZID:Europe/Zurich
TZUNTIL:20250330T010000Z
BEGIN:STANDARD
TZNAME:CET
DTSTART:20221030T030000
TZOFFSETFROM:+0200
TZOFFSETTO:+0100
RDATE:20231029T030000
RDATE:20241027T030000
END:STANDARD
BEGIN:DAYLIGHT
TZNAME:CEST
DTSTART:20230326T020000
TZOFFSETFROM:+0100
TZOFFSETTO:+0200
RDATE:20240331T020000
END:DAYLIGHT
END:VTIMEZONE
BEGIN:VEVENT
UID:65313237-6465-4431-b334-656639333562
DTSTAMP:20260419T135413Z
CATEGORIES:Folk & More
CLASS:PUBLIC
DESCRIPTION;ALTREP="CID:<FFFF__=0ABBE548DFE235B58f9e8a93d@coffeebean.com>":
 Rebecca Spiteri\, die stilistisch vielseitige Sängerin\, mischt mit ihrer 
 neu besetzten Band soulig-jazzige Tunes und packende Grooves mit einer Pri
 se Latin.\nRebecca ist\, was man eine authentische Sängerin mit einer wand
 lungsfähigen Stimme nennt: ihr internationaler Hintergrund und ihre Vielsp
 rachigkeit befähigen sie\, unterschiedlichste Stile echt und innovativ wie
 derzugeben. Dank ihrer mehrjährigen Aufenthalte in Algerien\, England\, Ka
 lifornien und Venezuela\, beherrscht sie den Jazz (Manouche)\, Gospel\, So
 ul\, Blues und den Latin Tumbao.\nBegleitet wird sie von versierten Musike
 r der Schweizer Jazzszene: David Wildi (Gitarre)\, Immanuel Witschi (Piano
 )\, Peter Waldner (Bass) und Fabio Vezzio (Schlagzeug). Die fünf haben all
 e etwas gemeinsam: Sie lieben das Fusionskonzept und vermischen gekonnt so
 ulig-jazzige Tunes und packende Grooves\, stets angereichert mit einer Pri
 se Latin und eigenen Arrangements. Jedes Bandmitglied hat sich über die Ja
 hre in diversen Stilrichtungen spezialisiert und Erfahrungen hierzulande u
 nd im Ausland gesammelt.\nRebecca Spiteri (voc)\, David Wildi (g)\, Immanu
 el Witschi (p)\, Peter Waldner (b)\, Fabio Vezzio (dr)\nhttps://www.beckya
 ndthegents.com
DTSTART:20230629T181500Z
DTEND:20230629T181500Z
GEO:00;0
LOCATION:
ORGANIZER:
SEQUENCE:1
SUMMARY:Becky & The Gents – Soulful Music with a Latin Twist
TRANSP:OPAQUE
URL:https://www.esse.bar/index.php/veranstaltungen/vergangene-veranstaltung
 en/1868-becky-the-gents-soulful-music-with-a-latin-twist/2023-06-29-20-15
END:VEVENT
END:VCALENDAR
