BEGIN:VCALENDAR
VERSION:2.0
PRODID:-//ESSE Musicbar Winterthur//NONSGML kigkonsult.se iCalcreator 2.41.92//
CALSCALE:GREGORIAN
METHOD:PUBLISH
UID:31613462-6132-4633-a364-316461326561
X-WR-CALNAME:iCagenda
X-WR-CALDESC:Event Management Extension for Joomla!
X-WR-RELCALID:3E26604A-50F4-4449-8B3E-E4F4932D05B5
X-WR-TIMEZONE:Europe/Zurich
BEGIN:VTIMEZONE
TZID:Europe/Zurich
TZUNTIL:20250330T010000Z
BEGIN:STANDARD
TZNAME:CET
DTSTART:20221030T030000
TZOFFSETFROM:+0200
TZOFFSETTO:+0100
RDATE:20231029T030000
RDATE:20241027T030000
END:STANDARD
BEGIN:DAYLIGHT
TZNAME:CEST
DTSTART:20230326T020000
TZOFFSETFROM:+0100
TZOFFSETTO:+0200
RDATE:20240331T020000
END:DAYLIGHT
END:VTIMEZONE
BEGIN:VEVENT
UID:61376531-3731-4663-b966-666262313931
DTSTAMP:20260419T135251Z
CATEGORIES:Jazz
CLASS:PUBLIC
DESCRIPTION;ALTREP="CID:<FFFF__=0ABBE548DFE235B58f9e8a93d@coffeebean.com>":
 «Deutschpop\, Schwiizimpro + Americanjazz»\nFür «Don’t Forget The Poets» h
 at Isa Wiss in ihrem Fundus nach den liebsten Song-Texten gesucht und im W
 issen um die unüberwindbare Unvollständigkeit eine kleine\, feine Auswahl 
 getroffen.\nIm daraus entstanden Programm klingt Poesie von Ann Ronell\, T
 om Waits\, Billie Holiday\, Rio Reiser\, Sally Swisher\, Billy Joel und vi
 elleicht Grönemeyer in purer\, emotionaler Musik.Einer Musik\, die im Trio
  mit Christian Rösli (Piano) und Andi Zitz (Bass) auf den Punkt gebracht u
 nd improvisierend weitergesponnen wird.\n«I’m gonna take it with me when I
  go» – Tom Waits\nIsa Wiss (voc)\, Christian Rösli (p)\, Andreas Zitz (db)
 \nhttps://www.isawiss.ch\n\nEin paar Stichworte zu Isa Wiss\nWenige Sänger
 innen verfügen über ein derart breites Spektrum an Ausdrucksmöglichkeiten 
 wie die gebürtige Winterthurerin Isa Wiss. Und es gibt nicht viele\, die s
 ich mit solch unbändiger Lust ins musikalische Abenteuer stürzen – ohne Ne
 tz und doppelten Boden.\nWenn eine Big Band eine Vokalistin benötigt\, die
  sowohl «Ganz Paris träumt von der Liebe» singen\, als auch mit ihrer Stim
 me einen Trompetensatz anführen kann\, engagiert sie am besten Isa Wiss. W
 er eine freie Stimmimprovisation mit Klängen zwischen Geschrei und Geflüst
 er\, Volksmusik mit Schwyzerörgeli oder Soul mit einer Frauenband benötigt
  – Isa Wiss ist die richtige Frau\, um unterschiedlichste musikalische Wün
 sche zu erfüllen.\nIsa Wiss\, geboren 1978 und aufgewachsen in Dinhard/ZH\
 , nahm klassischen Gesangsunterricht am Konservatorium Winterthur und besu
 chte ein Jahr die Swiss Jazz School in Bern. Im Jahr 2005 schloss sie an d
 er Hochschule Luzern mit dem Master in Musikpädagogik ab und blieb danach 
 in Luzern. Seit einigen Jahren hat sich ihr kreativer Fokus verstärkt auf 
 Bühnen- und musikalisch-literarische Projekte gerichtet. Isa Wiss ist Mitb
 egründerin des Mullbaus\, dem Raum für improvisierte Musik. Bei den migma 
 Performancetagen Luzern war sie bis 2017 als Kuratorin tätig. Zudem leiste
 t sie mit ihren spezifischen Projekten für Kinder eine wichtige Vermittlun
 gsarbeit. 2017 erhielt Isa den Jazzpreis Luzern.\nHeute arbeitet sie als f
 reischaffende Sängerin. Isa Wiss experimentiert an der Schnittstelle zwisc
 hen Stimme und Performance\, kreiert eine individuelle Stimmgeräusch-Kultu
 r\, vertont fremde und eigene Texte\, spielt improvisierte Geschichten sow
 ie Musik für Kinder\, leiht hin und wieder einer Big-Band ihre Stimme\, mi
 mt Charakteren bei Oper und Schauspiel\, spielt neben Neuer Musik auch «Ne
 ue Volksmusik» und interessiert sich für interdisziplinäre Arbeiten\, wie 
 zum Beispiel für diejenige zwischen improvisierter Musik und Tanz.
DTSTART:20230616T181500Z
DTEND:20230616T181500Z
GEO:00;0
LOCATION:
ORGANIZER:
SEQUENCE:1
SUMMARY:Don’t Forget The Poets #23 feat. Isa Wiss
TRANSP:OPAQUE
URL:https://www.esse.bar/index.php/veranstaltungen/vergangene-veranstaltung
 en/1869-don-t-forget-the-poets-feat-isa-wyss/2023-06-16-20-15
END:VEVENT
END:VCALENDAR
