BEGIN:VCALENDAR
VERSION:2.0
PRODID:-//ESSE Musicbar Winterthur//NONSGML kigkonsult.se iCalcreator 2.41.92//
CALSCALE:GREGORIAN
METHOD:PUBLISH
UID:34613163-3334-4037-b937-616439646333
X-WR-CALNAME:iCagenda
X-WR-CALDESC:Event Management Extension for Joomla!
X-WR-RELCALID:3E26604A-50F4-4449-8B3E-E4F4932D05B5
X-WR-TIMEZONE:Europe/Zurich
BEGIN:VTIMEZONE
TZID:Europe/Zurich
TZUNTIL:20250330T010000Z
BEGIN:STANDARD
TZNAME:CET
DTSTART:20221030T030000
TZOFFSETFROM:+0200
TZOFFSETTO:+0100
RDATE:20231029T030000
RDATE:20241027T030000
END:STANDARD
BEGIN:DAYLIGHT
TZNAME:CEST
DTSTART:20230326T020000
TZOFFSETFROM:+0100
TZOFFSETTO:+0200
RDATE:20240331T020000
END:DAYLIGHT
END:VTIMEZONE
BEGIN:VEVENT
UID:39643739-3135-4933-a134-376534656639
DTSTAMP:20260419T135128Z
CATEGORIES:Jazz
CLASS:PUBLIC
DESCRIPTION;ALTREP="CID:<FFFF__=0ABBE548DFE235B58f9e8a93d@coffeebean.com>":
 Die Kombination von Gitarre\, Bass und Schlagzeug hat ihren speziellen Rei
 z in der Transparenz des Klanges\, da auf der akustischen Jazzgitarre natu
 rgemäss nie dieselbe klangliche Dichte erzeugt werden kann\, wie etwa auf 
 dem Klavier. Dies lässt den Musikern des Trios viel Freiraum für Interakti
 on und die Umsetzung musikalischer Ideen.\nRoberto Bossard aus Zug ist ein
 er der bekanntesten Jazzmusiker national und international. Seit bald drei
 ssig Jahren führt ihn sein Gitarrenspiel mit Grössen des Jazz zusammen: Vi
 nce Benedetti\, Wiliam Evans\, Reggie Johnson\, Albert Mangelsdorf\, Sal N
 istico\, Simon Nabatov\, Mark Soskin\, Nils Wogram\, Gene Perla\, Jarmo Sa
 volainen oder auch Jari Perkiomaki. Roberto Bossard glänzt durch seine vir
 tuose und musikalisch geschmackvolle Art die Gitarre zu spielen\, in dem e
 r traditionelle und moderne Elemente des Jazz gekonnt verbindet und so ein
 en eigenständigen Sound präsentiert.\nSein Sohn Raffaele ist einer der int
 eressantesten Jazzmusiker der neuen Generation. Seine Virtuosität am Kontr
 abass ist international bekannt\, so spielt er in den verschiedensten Band
 s mit den Top Cracks der internationalen Jazzszene.\nDominic Egli war gera
 de erst mit seiner Band «Plurism» bei uns in der ESSE zu Gast. Er zählt mi
 t seinem groovigen\, swingenden Spiel und seiner enormen Stilbreite zu den
  gefragtesten Schlagzeugern der Schweizer Jazz-Szene.\nIn einem vielseitig
 en Repertoire bringen die drei versierten\, hochkarätigen Protagonisten ei
 n jeder von ihnen seine individuellen Qualitäten mit Elan\, Feingefühl und
  auf Augenhöhe in einen abgerundeten\, harmonischen Band-Sound ein\, der u
 nwiderstehlich swingt und mitreissende Atmosphären und Momente zu bieten h
 at.\nRoberto Bossard (g)\, Raffaele Bossard (db)\, Dominic Egli (dr)\nhttp
 s://www.robertobossard.chhttps://www.raffaelebossard.comhttp://www.dominic
 egli.ch/site/index.php
DTSTART:20230615T181500Z
DTEND:20230615T181500Z
GEO:00;0
LOCATION:
ORGANIZER:
SEQUENCE:1
SUMMARY:Roberto Bossard Trio
TRANSP:OPAQUE
URL:https://www.esse.bar/index.php/veranstaltungen/vergangene-veranstaltung
 en/1871-roberto-bossard-trio/2023-06-15-20-15
END:VEVENT
END:VCALENDAR
