BEGIN:VCALENDAR
VERSION:2.0
PRODID:-//ESSE Musicbar Winterthur//NONSGML kigkonsult.se iCalcreator 2.41.92//
CALSCALE:GREGORIAN
METHOD:PUBLISH
UID:39373566-3766-4536-a131-376364613234
X-WR-CALNAME:iCagenda
X-WR-CALDESC:Event Management Extension for Joomla!
X-WR-RELCALID:3E26604A-50F4-4449-8B3E-E4F4932D05B5
X-WR-TIMEZONE:Europe/Zurich
BEGIN:VTIMEZONE
TZID:Europe/Zurich
TZUNTIL:20250330T010000Z
BEGIN:STANDARD
TZNAME:CET
DTSTART:20221030T030000
TZOFFSETFROM:+0200
TZOFFSETTO:+0100
RDATE:20231029T030000
RDATE:20241027T030000
END:STANDARD
BEGIN:DAYLIGHT
TZNAME:CEST
DTSTART:20230326T020000
TZOFFSETFROM:+0100
TZOFFSETTO:+0200
RDATE:20240331T020000
END:DAYLIGHT
END:VTIMEZONE
BEGIN:VEVENT
UID:63636530-6266-4463-a130-383730346663
DTSTAMP:20260419T135143Z
CATEGORIES:StandUp Choir
CLASS:PUBLIC
DESCRIPTION;ALTREP="CID:<FFFF__=0ABBE548DFE235B58f9e8a93d@coffeebean.com>":
 «Wenn du glücklich werden willst\, singe! wenn du noch glücklicher werden 
 willst\, singe in einem Chor!» - Stephan Eicher\nZwei Stunden\, mit Sänger
 in und Coach Eva Pearlman\, voller Energie\, Lebensfreude und Erfolgserleb
 nisse! Gemeinsam werden bekannte und einfach zu lernende Songs aus verschi
 edenen Genres von Pop/ Rock bis Soul &amp\; Jazz gesungen\, mehrstimmig un
 d - in dieser Ausgabe - erstmals mit Band-Begleitung: Marcus Bodenmann (eb
 )\, Dani Schmid (dr)\, Eva Perlmann (p\, voc)\nInklusive Atem- und Stimmtr
 aining. Vorkenntnisse sind keine notwendig.\nhttps://youtu.be/oBO2t2phBec
 \nDetails: https://eva-music.ch/chorerlebnisseVeranstaltungs-Flyer: PDF\nU
 nbeschwertes Singen für alle. Kosten: CHF 40.00\nAnmeldung: eva@vocalize.c
 h\nEs besteht im Anschluss die Möglichkeit\, ein einfaches Mittagessen in 
 der ESSE Musicbar zu geniessen. 
DTSTART:20230617T073000Z
DTEND:20230617T073000Z
GEO:00;0
LOCATION:
ORGANIZER:
SEQUENCE:1
SUMMARY:Eva Pearlman StandUp Choir – mit Live-Band
TRANSP:OPAQUE
URL:https://www.esse.bar/index.php/veranstaltungen/vergangene-veranstaltung
 en/1872-eva-pearlman-standup-choir-7/2023-06-17-09-30
END:VEVENT
END:VCALENDAR
