BEGIN:VCALENDAR
VERSION:2.0
PRODID:-//ESSE Musicbar Winterthur//NONSGML kigkonsult.se iCalcreator 2.41.92//
CALSCALE:GREGORIAN
METHOD:PUBLISH
UID:64663038-6533-4233-a663-383465653639
X-WR-CALNAME:iCagenda
X-WR-CALDESC:Event Management Extension for Joomla!
X-WR-RELCALID:3E26604A-50F4-4449-8B3E-E4F4932D05B5
X-WR-TIMEZONE:Europe/Zurich
BEGIN:VTIMEZONE
TZID:Europe/Zurich
TZUNTIL:20250330T010000Z
BEGIN:STANDARD
TZNAME:CET
DTSTART:20221030T030000
TZOFFSETFROM:+0200
TZOFFSETTO:+0100
RDATE:20231029T030000
RDATE:20241027T030000
END:STANDARD
BEGIN:DAYLIGHT
TZNAME:CEST
DTSTART:20230326T020000
TZOFFSETFROM:+0100
TZOFFSETTO:+0200
RDATE:20240331T020000
END:DAYLIGHT
END:VTIMEZONE
BEGIN:VEVENT
UID:32326335-6166-4462-b331-636433623161
DTSTAMP:20260419T121148Z
CATEGORIES:Sommerloch
CLASS:PUBLIC
DESCRIPTION;ALTREP="CID:<FFFF__=0ABBE548DFE235B58f9e8a93d@coffeebean.com>":
 «The Soul Of Jazz»\n«Don’t Forget The Poets» Ausgabe #24: Einmal im Monat 
 laden die beiden in Winterthur lebenden Jazzmusiker Christian Rösli am Kla
 vier und Andreas Zitz am Kontrabass\, Gäste für einen Konzertabend in die 
 ESSE-Musicbar ein.\nAn diesen Abenden porträtieren sie einen Komponisten\,
  eine Zeitepoche\, ein Instrument\, eine Aufnahme oder eine Stilrichtung a
 us dem Kosmos des Jazz. Dabei entstehen Formationen\, die es zuvor so noch
  nicht gegeben hat und danach nicht mehr gibt. Das Motto: Eine Probe\, ein
  Konzert.\nDas August-Konzert im «Sommerloch»-Programm ist gleich in doppe
 lter Hinsicht speziell: Erstmals ist Kontrabassist und Mitgründer Andreas 
 Zitz (aus Termingründen) für einmal nicht dabei. Somit tritt Pianist Chris
 tian Rösli für einen Abend mit komplett neu besetzter Band an. So amtet de
 r US-amerikanische Saxophonist und Platten-Label-Betreiber Neal Sugarman (
 «Defend Music») als internationaler Special Guest erstmals in der ESSE und
  unterstützt die Première dieses einmaligen «Poets»-Trios. Vielversprechen
 des Thema des Konzerts: «The Soul Of Jazz».\nNeal Sugarman (s)\, Christian
  Rösli (p)\, Mario Sander (b)\, Michael Krummenerl (dr)\nhttps://de.wikipe
 dia.org/wiki/Neal_Sugarmanhttps://defendmusic.com/?artist=n-sugarmanhttps:
 //www.dont-forget-the-poets.ch
DTSTART:20230825T181500Z
DTEND:20230825T181500Z
GEO:00;0
LOCATION:
ORGANIZER:
SEQUENCE:1
SUMMARY:Don’t Forget The Poets #24 feat. Neal Sugarman
TRANSP:OPAQUE
URL:https://www.esse.bar/index.php/veranstaltungen/vergangene-veranstaltung
 en/1873-don-t-forget-the-poets-feat-isa-wyss-2/2023-08-25-20-15
END:VEVENT
END:VCALENDAR
