BEGIN:VCALENDAR
VERSION:2.0
PRODID:-//ESSE Musicbar Winterthur//NONSGML kigkonsult.se iCalcreator 2.41.92//
CALSCALE:GREGORIAN
METHOD:PUBLISH
UID:63323635-6365-4134-b435-613162653263
X-WR-CALNAME:iCagenda
X-WR-CALDESC:Event Management Extension for Joomla!
X-WR-RELCALID:3E26604A-50F4-4449-8B3E-E4F4932D05B5
X-WR-TIMEZONE:Europe/Zurich
BEGIN:VTIMEZONE
TZID:Europe/Zurich
TZUNTIL:20250330T010000Z
BEGIN:STANDARD
TZNAME:CET
DTSTART:20221030T030000
TZOFFSETFROM:+0200
TZOFFSETTO:+0100
RDATE:20231029T030000
RDATE:20241027T030000
END:STANDARD
BEGIN:DAYLIGHT
TZNAME:CEST
DTSTART:20230326T020000
TZOFFSETFROM:+0100
TZOFFSETTO:+0200
RDATE:20240331T020000
END:DAYLIGHT
END:VTIMEZONE
BEGIN:VEVENT
UID:37313930-3962-4630-b664-663165326339
DTSTAMP:20260419T121101Z
CATEGORIES:Jazz
CLASS:PUBLIC
DESCRIPTION;ALTREP="CID:<FFFF__=0ABBE548DFE235B58f9e8a93d@coffeebean.com>":
 «Don’t Forget The Poets» Ausgabe #25: Einmal im Monat laden die beiden in 
 Winterthur lebenden Jazzmusiker Christian Rösli am Klavier und Andreas Zit
 z am Kontrabass\, Gäste für einen Konzertabend in die ESSE-Musicbar ein.\n
 An diesen Abenden porträtieren sie einen Komponisten\, eine Zeitepoche\, e
 in Instrument\, eine Aufnahme oder eine Stilrichtung aus dem Kosmos des Ja
 zz. Dabei entstehen Formationen\, die es zuvor so noch nicht gegeben hat u
 nd danach nicht mehr gibt. Das Motto: Eine Probe\, ein Konzert.\nDie Winte
 rthurer Reihe in der ESSE startete im Mai 2021 «Afro-American Spirituals».
  Die aktuelle Folge – wiederum mit Thomas Lüthi am Sax – nimmt dieses Them
 a erneut auf.\nThomas Lüthi (ts)\, Christian Rösli (p)\, Andreas Zitz (db)
 \nhttps://andreaszitz.chhttps://www.konservatorium.ch/christian-rösliwww.t
 homasluethi.net
DTSTART:20230915T181500Z
DTEND:20230915T181500Z
GEO:00;0
LOCATION:
ORGANIZER:
SEQUENCE:1
SUMMARY:Don't Forget The Poets #25 – Afro American Spirituals Vol. 2
TRANSP:OPAQUE
URL:https://www.esse.bar/index.php/veranstaltungen/vergangene-veranstaltung
 en/1874-don-t-forget-the-poets-feat-isa-wyss-3/2023-09-15-20-15
END:VEVENT
END:VCALENDAR
