BEGIN:VCALENDAR
VERSION:2.0
PRODID:-//ESSE Musicbar Winterthur//NONSGML kigkonsult.se iCalcreator 2.41.92//
CALSCALE:GREGORIAN
METHOD:PUBLISH
UID:34336438-3266-4137-a137-663730393037
X-WR-CALNAME:iCagenda
X-WR-CALDESC:Event Management Extension for Joomla!
X-WR-RELCALID:3E26604A-50F4-4449-8B3E-E4F4932D05B5
X-WR-TIMEZONE:Europe/Zurich
BEGIN:VTIMEZONE
TZID:Europe/Zurich
TZUNTIL:20251026T010000Z
BEGIN:STANDARD
TZNAME:CET
DTSTART:20231029T030000
TZOFFSETFROM:+0200
TZOFFSETTO:+0100
RDATE:20241027T030000
END:STANDARD
BEGIN:DAYLIGHT
TZNAME:CEST
DTSTART:20230326T020000
TZOFFSETFROM:+0100
TZOFFSETTO:+0200
RDATE:20240331T020000
RDATE:20250330T020000
END:DAYLIGHT
END:VTIMEZONE
BEGIN:VEVENT
UID:64653237-3933-4264-b132-663131336361
DTSTAMP:20260423T090255Z
CATEGORIES:Jazz
CLASS:PUBLIC
DESCRIPTION;ALTREP="CID:<FFFF__=0ABBE548DFE235B58f9e8a93d@coffeebean.com>":
 Natürlich darf auch in der Reihe «Don’t Forget The Poets» ein auf Weihnach
 ten einstimmender Konzertabend nicht fehlen. Diesen könnte man beispielswe
 ise «My favourite Christmas Songs» nennen oder auch «Wie vier sich aufmach
 ten\, um in Winterthur Weihnachten zu feiern». Jedenfalls ist es Christian
  Rösli (p) und Andreas Zitz (db) gelungen\, Sandy Müller alias «Lyambiko» 
 für diesen Anlass zu gewinnen.\nLyambiko zählt wohl zu den erfolgreichsten
  Jazzsängerinnen Deutschlands\, ist jedoch im Raum Winterthur zu Hause. Fü
 r das «Christmas Set» hat sie ihre Lieblings-Weihnachtshits zusammengestel
 lt. Als weiterer Gast in dieser «Poets»-Ausgabe amtet der bekannte Gitarri
 st Felix Utzinger.\nGemeinsam hat das illustre Quartett einfühlsame und ge
 schmacksvolle Versionen aus den ausgewählten Songs gemacht. (Nicht nur) ei
 n perfektes Weihnachtskonzert für anspruchsvolle Jazz- und Pop-Fans – geei
 gnet auch zum Träumen\, Mitsummen und Entdecken!\nLyambiko (voc)\, Felix U
 tzinger (g)\, Christian Rösli (p)\, Andreas Zitz (db)\nhttps://www.lyambik
 o.comhttps://www.dont-forget-the-poets.ch
DTSTART:20231221T191500Z
DTEND:20231221T191500Z
GEO:00;0
LOCATION:
ORGANIZER:
SEQUENCE:1
SUMMARY:«Don’t Forget The Poets» #28 – «Christmas Set»
TRANSP:OPAQUE
URL:https://www.esse.bar/index.php/veranstaltungen/vergangene-veranstaltung
 en/1876-don-t-forget-the-poets-feat-isa-wyss-5/2023-12-21-20-15
END:VEVENT
END:VCALENDAR
