BEGIN:VCALENDAR
VERSION:2.0
PRODID:-//ESSE Musicbar Winterthur//NONSGML kigkonsult.se iCalcreator 2.41.92//
CALSCALE:GREGORIAN
METHOD:PUBLISH
UID:63333033-6131-4062-b466-663135653637
X-WR-CALNAME:iCagenda
X-WR-CALDESC:Event Management Extension for Joomla!
X-WR-RELCALID:3E26604A-50F4-4449-8B3E-E4F4932D05B5
X-WR-TIMEZONE:Europe/Zurich
BEGIN:VTIMEZONE
TZID:Europe/Zurich
TZUNTIL:20250330T010000Z
BEGIN:STANDARD
TZNAME:CET
DTSTART:20221030T030000
TZOFFSETFROM:+0200
TZOFFSETTO:+0100
RDATE:20231029T030000
RDATE:20241027T030000
END:STANDARD
BEGIN:DAYLIGHT
TZNAME:CEST
DTSTART:20230326T020000
TZOFFSETFROM:+0100
TZOFFSETTO:+0200
RDATE:20240331T020000
END:DAYLIGHT
END:VTIMEZONE
BEGIN:VEVENT
UID:64326231-3963-4165-b437-383639373734
DTSTAMP:20260419T133845Z
CATEGORIES:young people on stage
CLASS:PUBLIC
DESCRIPTION;ALTREP="CID:<FFFF__=0ABBE548DFE235B58f9e8a93d@coffeebean.com>":
 Jung und frisch: die 3 Bands des Pop/Jazz-Bereichs vom Konservatorium Wint
 erthur (Pre-College\, Förderprogramm\, FMS Profil Musik) konzertieren zum 
 Abschluss des Semesters in den heiligen Jazzhallen der Esse Musicbar. Geni
 essen wir einen groovigen Abend mit den Hepcats\, Saftware und Conservator
 s.\nSeit mehreren Jahrzehnten ist das Konservatorium Winterthur in der bre
 iten musikalischen Ausbildung von Kindern und Jugendlichen aktiv und auch 
 in der Studienvorbereitung. Schon hunderte junge Musikerinnen und Musiker 
 haben aus dem Vorstudium/Pre-College des Konservatoriums Winterthur den Sp
 rung an Musikhochschulen im In- und Ausland geschafft.\nMitwirkendeHepcats
  (Leitung Raffaele Lunardi): Valerie Hadorn\, Vianne Arndt\, Noah Merinero
 \, Leon Frei\, Liam Seillier Conservators (Leitung Carlo Filaferro): Miria
 m Makia\, Sarah Merinero\, Elias Gietenbruch\, Noah Merinero\, Leon Frei\,
  Flurin Kasper Saftware (Leitung Tobias Hunziker): Miriam Makia\, Benjamin
  Bernatschek\, Laura Schäfer\, Amos Roth
DTSTART:20230702T220000Z
DTEND:20230702T220000Z
GEO:00;0
LOCATION:
ORGANIZER:
SEQUENCE:1
SUMMARY:KJPB (KonsiJazzPopBands) @ Esse Musicbar
TRANSP:OPAQUE
URL:https://www.esse.bar/index.php/veranstaltungen/vergangene-veranstaltung
 en/1879-konsi-bandnight-2/2023-07-03-00-00
END:VEVENT
END:VCALENDAR
