BEGIN:VCALENDAR
VERSION:2.0
PRODID:-//ESSE Musicbar Winterthur//NONSGML kigkonsult.se iCalcreator 2.41.92//
CALSCALE:GREGORIAN
METHOD:PUBLISH
UID:34323739-3863-4139-b766-616262373035
X-WR-CALNAME:iCagenda
X-WR-CALDESC:Event Management Extension for Joomla!
X-WR-RELCALID:3E26604A-50F4-4449-8B3E-E4F4932D05B5
X-WR-TIMEZONE:Europe/Zurich
BEGIN:VTIMEZONE
TZID:Europe/Zurich
TZUNTIL:20250330T010000Z
BEGIN:STANDARD
TZNAME:CET
DTSTART:20221030T030000
TZOFFSETFROM:+0200
TZOFFSETTO:+0100
RDATE:20231029T030000
RDATE:20241027T030000
END:STANDARD
BEGIN:DAYLIGHT
TZNAME:CEST
DTSTART:20230326T020000
TZOFFSETFROM:+0100
TZOFFSETTO:+0200
RDATE:20240331T020000
END:DAYLIGHT
END:VTIMEZONE
BEGIN:VEVENT
UID:65663566-3933-4636-a566-353364663837
DTSTAMP:20260419T133727Z
CATEGORIES:Folk & More
CLASS:PUBLIC
DESCRIPTION;ALTREP="CID:<FFFF__=0ABBE548DFE235B58f9e8a93d@coffeebean.com>":
 Eigentlich wäre für diesen Sonntag das Duo «Spicy Soundkitchen» angesagt g
 ewesen. Die Pianistin und Sängerin Conny Resch hat sich aber leider eine V
 erletzung an der Hand zugezogen\, weshalb das Klavierspielen für geraume Z
 eit nicht möglich ist. Das Konzert wird selbstverständlich nachgeholt.\nDa
 s Einspringen übernimmt netterweise Sänger und Pianist Raphael Jost –Schli
 esslich wohnt er ja seit ein paar Jahren in Winterthur ?. Spätestens seit 
 seiner Auszeichnung am Europäischen Nachwuchs-Jazzpreis 2012 zählt er zu d
 en grössten jungen Talenten der Schweizer Jazz-Szene. Unverkennbar ist sei
 ne kraftvolle und dennoch wandlungsfähige Stimme.\nSeine poppigen Eigenkom
 positionen erinnern an den britischen Sänger und Pianisten Jamie Cullum. Ü
 berhaupt ist Jost ist ein ausgesprochen talentierter Songwriter und Arrang
 eur\, der sich nicht nur im Jazz\, sondern auch auch im Pop zu Hause fühlt
 . Erst kürzlich hat bei uns in der Reihe «Don’t Forget The Poets» einen Ab
 end mit Songs von Frank Sinatra gestaltet.\nRaphael Jost trat u.a. schon a
 m Montreux Jazz Festival\, am Cheltenham Jazz Festival\, am Jaffa Internat
 ional Jazz Festival in Tel Aviv\, am Blue Balls Festival Luzern\, dem Scha
 ffhauser Jazzfestival\, den Winterthurer Musikfestwochen\, dem Festival Da
  Jazz in St. Moritz oder am JazzAscona auf.\nRaphael Jost (p\, voc)\nhttps
 ://www.raphaeljost.ch\n\nInteressant zu wissen:\nRaphael Jost (geb. am 5. 
 April 1988) ist ein Schweizer Musiker (Gesang\, Klavier)\, der im Jazz- un
 d Pop-Bereich aktiv ist.\nJost wuchs in Basadingen im Kanton Thurgau auf u
 nd begann im Alter von sechs Jahren mit dem Klavierspielen. Sein Interesse
  am Gesang wurde im Alter von 18 Jahren durch Jamie Cullum geweckt. Sein M
 usikstudium im Fach Jazz-Piano absolvierte er an der Zürcher Hochschule de
 r Künste\, wo er u. a. bei Andy Harder\, Chris Wiesendanger und im Nebenfa
 ch Jazzgesang bei Marion Denzler studierte. Seinen Master-Abschluss in Mus
 ikpädagogik/Performance machte er 2013.Im Frühling 2014 veröffentlichte Jo
 st sein Debütalbum «Don't Blame Me»\, welches er grösstenteils mit seiner 
 achtköpfigen Formation «Raphael Jost &amp\; lots of horns» eingespielt hat
 . 2015 legte er ein Album mit seinem «Standards Trio» vor. Er trat u. a. a
 m Montreux Jazz Festival (2011)\, am Cheltenham Jazz Festival\, am Interna
 tional Jaffa Jazz Festival Tel Aviv\, am Schaffhauser Jazz-Festival und am
  Blue Balls Festival Luzern oder an den Winterthurer Musikfestwochen auf.
 \nIm Oktober 2018 veröffentlichte Jost auf dem Label Enja Records das Albu
 m «Moosedays». Eingespielt mit seiner Band «Raphael Jost &amp\; lots of ho
 rns» in einem Tonstudio bei Göteborg enthält das Werk 12 Songs\, 10 davon 
 sind Eigenkompositionen.\nBeim Europäischen Nachwuchs-Jazzpreis im Rahmen 
 der Jazzwoche Burghausen 2012 wurde Jost mit dem Solistenpreis ausgezeichn
 et. Für den Jazzpreis der Zürcher Kantonalbank 2013 wurde er nominiert. 20
 15 wurde er mit seiner Band «Raphael Jost &amp\; lots of horns» mit dem Sw
 iss Jazz Award ausgezeichnet.
DTSTART:20230625T173000Z
DTEND:20230625T173000Z
GEO:00;0
LOCATION:
ORGANIZER:
SEQUENCE:1
SUMMARY:Raphael Jost – Solo
TRANSP:OPAQUE
URL:https://www.esse.bar/index.php/veranstaltungen/vergangene-veranstaltung
 en/1881-raphael-jost-solo/2023-06-25-19-30
END:VEVENT
END:VCALENDAR
