BEGIN:VCALENDAR
VERSION:2.0
PRODID:-//ESSE Musicbar Winterthur//NONSGML kigkonsult.se iCalcreator 2.41.92//
CALSCALE:GREGORIAN
METHOD:PUBLISH
UID:63633338-6161-4265-a365-636438343761
X-WR-CALNAME:iCagenda
X-WR-CALDESC:Event Management Extension for Joomla!
X-WR-RELCALID:3E26604A-50F4-4449-8B3E-E4F4932D05B5
X-WR-TIMEZONE:Europe/Zurich
BEGIN:VTIMEZONE
TZID:Europe/Zurich
TZUNTIL:20250330T010000Z
BEGIN:STANDARD
TZNAME:CET
DTSTART:20221030T030000
TZOFFSETFROM:+0200
TZOFFSETTO:+0100
RDATE:20231029T030000
RDATE:20241027T030000
END:STANDARD
BEGIN:DAYLIGHT
TZNAME:CEST
DTSTART:20230326T020000
TZOFFSETFROM:+0100
TZOFFSETTO:+0200
RDATE:20240331T020000
END:DAYLIGHT
END:VTIMEZONE
BEGIN:VEVENT
UID:66613330-3539-4838-a230-363461623365
DTSTAMP:20260419T120926Z
CATEGORIES:Sommerloch
CLASS:PUBLIC
DESCRIPTION;ALTREP="CID:<FFFF__=0ABBE548DFE235B58f9e8a93d@coffeebean.com>":
 Die Oldies-Rock-Cover-Band «Ignition» sind fünf hartgesottene Musiker\, di
 e sich dem Sound der 60er - 80erJahre verschrieben haben - einem Sound\, d
 er damals in reiner Handarbeit\, nicht am Computer entstand. Mit reichlich
  Erfahrung spielen sie die smashing Hits der musikalischen Blütezeit des R
 ock aus den 70er und 80er-Jahren. Ihre Musik - selber erlebt.\nTanzen\, in
  vergangenen Zeiten schwelgen - zur Musik von Eric Clapton\, Steve Miller\
 , Santana\, den Stones\, den Beatles\, Pink Floyd\, AC/DC\, Deep Purple\, 
 Bryan Adams\, Status Quo\, Delbert McClinton\, Dire Straits - und und und.
 ..\n«Ignition» lassen diese Zeit wieder auferstehen mit sechs und vier Sai
 ten\, schwarzen und weissen Tasten und Drumsticks aus edlem Holz. Diese Mu
 sik ist und bleibt ein Knaller - Rock’n’Roll forever!\nFelix Eidenbenz (vo
 c\, keyb)\, René Konrad (g\, voc)\, Erich Naef (g\, harp)\, Jürg Gallo (b)
 \, Nathanael Bührer (dr)\nhttp://www.ignitionrock.ch/index.htm
DTSTART:20230817T181500Z
DTEND:20230817T181500Z
GEO:00;0
LOCATION:
ORGANIZER:
SEQUENCE:1
SUMMARY:Ignition – Bock auf Rock
TRANSP:OPAQUE
URL:https://www.esse.bar/index.php/veranstaltungen/vergangene-veranstaltung
 en/1888-sommerloch-8/2023-08-17-20-15
END:VEVENT
END:VCALENDAR
