BEGIN:VCALENDAR
VERSION:2.0
PRODID:-//ESSE Musicbar Winterthur//NONSGML kigkonsult.se iCalcreator 2.41.92//
CALSCALE:GREGORIAN
METHOD:PUBLISH
UID:32363438-6463-4339-a632-633138363964
X-WR-CALNAME:iCagenda
X-WR-CALDESC:Event Management Extension for Joomla!
X-WR-RELCALID:3E26604A-50F4-4449-8B3E-E4F4932D05B5
X-WR-TIMEZONE:Europe/Zurich
BEGIN:VTIMEZONE
TZID:Europe/Zurich
TZUNTIL:20250330T010000Z
BEGIN:STANDARD
TZNAME:CET
DTSTART:20221030T030000
TZOFFSETFROM:+0200
TZOFFSETTO:+0100
RDATE:20231029T030000
RDATE:20241027T030000
END:STANDARD
BEGIN:DAYLIGHT
TZNAME:CEST
DTSTART:20230326T020000
TZOFFSETFROM:+0100
TZOFFSETTO:+0200
RDATE:20240331T020000
END:DAYLIGHT
END:VTIMEZONE
BEGIN:VEVENT
UID:66343833-3462-4164-a666-386661366137
DTSTAMP:20260419T120205Z
CATEGORIES:Sommerloch
CLASS:PUBLIC
DESCRIPTION;ALTREP="CID:<FFFF__=0ABBE548DFE235B58f9e8a93d@coffeebean.com>":
 Die fünf versierten Musiker wirkten seit Jahren in verschiedenen Formation
 en\, wie der legendären Thurgauer-Band «Lennox CF»\, «Frische Fische»\, «B
 lues Container» und vielen mehr. Jetzt pflegen sie ihre Leidenschaft für a
 nspruchsvolle Instrumentalmusik im Jazz-\, Funk- und Fusion-Bereich.\nIm N
 ovember 2021 fand die Live-Première bei uns in der ESSE statt. Seither wur
 de die Playlist laufend erweitert. Gespielt werden Rosinen aus dem Jazz-Ro
 ck-Fusion-Repertoire der letzten 50 Jahre. Neben Songs von Billy Cobham\, 
 Nils Landgren\, Yellowjackets\, Spyro Gyra uvm. sind auch Eigenkreationen 
 aus der Feder von Keyboarder Martin Beerli mit dabei.\nTragende Keyboards\
 , heisse Saxsoli\, ein funky Slapbass und solides Schlagwerk lassen die St
 immung kochen! Abgerundet wird das Klangbild durch den Gitarristen Oli Ott
 \, der für die bluesigen Gitarrensoli sorgt.\nRicci Lunardi (s)\, Martin B
 eerli (p\, keyb)\, Oli Ott (g)\, René Spengler (b)\, Urs Stäheli (dr)
DTSTART:20230818T181500Z
DTEND:20230818T181500Z
GEO:00;0
LOCATION:
ORGANIZER:
SEQUENCE:1
SUMMARY:Sidecar
TRANSP:OPAQUE
URL:https://www.esse.bar/index.php/veranstaltungen/vergangene-veranstaltung
 en/1889-sommerloch-9/2023-08-18-20-15
END:VEVENT
END:VCALENDAR
