BEGIN:VCALENDAR
VERSION:2.0
PRODID:-//ESSE Musicbar Winterthur//NONSGML kigkonsult.se iCalcreator 2.41.92//
CALSCALE:GREGORIAN
METHOD:PUBLISH
UID:35333431-6662-4064-b232-643861623638
X-WR-CALNAME:iCagenda
X-WR-CALDESC:Event Management Extension for Joomla!
X-WR-RELCALID:3E26604A-50F4-4449-8B3E-E4F4932D05B5
X-WR-TIMEZONE:Europe/Zurich
BEGIN:VTIMEZONE
TZID:Europe/Zurich
TZUNTIL:20250330T010000Z
BEGIN:STANDARD
TZNAME:CET
DTSTART:20221030T030000
TZOFFSETFROM:+0200
TZOFFSETTO:+0100
RDATE:20231029T030000
RDATE:20241027T030000
END:STANDARD
BEGIN:DAYLIGHT
TZNAME:CEST
DTSTART:20230326T020000
TZOFFSETFROM:+0100
TZOFFSETTO:+0200
RDATE:20240331T020000
END:DAYLIGHT
END:VTIMEZONE
BEGIN:VEVENT
UID:32306462-6133-4231-b962-343963623231
DTSTAMP:20260423T101736Z
CATEGORIES:Sommerloch
CLASS:PUBLIC
DESCRIPTION;ALTREP="CID:<FFFF__=0ABBE548DFE235B58f9e8a93d@coffeebean.com>":
 Andreas Dannenmayer und Notker Homburger entdeckten Anfang der 70er Jahre 
 in Konstanz gemeinsam den Blues\, gründeten die «Konstanzer Blues Stampfer
 s»\, spielten einige Jahre zusammen und gingen dann getrennte musikalische
  Wege\, die sich immer wieder kreuzten.\n2013 haben sie sich wieder zusamm
 engetan. Als Duo «Dannenmayer &amp\; Homburger (Notty’s Jug Serenaders)» s
 pielen sie bekannte und weniger bekannte Blues- Klassiker – vermischt mit 
 schrägen Musikstücken anderer Herkunft. Lassen Sie sich überraschen!\nAndr
 eas Dannenmayer: Stimme\, Banjo-Ukulele\, Mundharmonika\, Zigarrenkistengi
 tarre\, Löffel\nund\nNotker Homburger:Stimme\, Gitarre\, Kazoo\n\n«I love 
 the renditions of old-time stuff like 'Guitar Rag' and 'I’m Busy And You C
 an’t Come In' — Great! I like very much the banjo-ukelele stylings of Herr
  Dannenmayer\, and together with your guitar\, it makes some very fine due
 ts\, as also on 'Little Red Hen'.» (Robert Crumb)\n'Ich liebe die Interpre
 tationen von Old-Time-Sachen wie 'Guitar Rag' und 'I'm Busy And You Can't 
 Come In' - grossartig! Ich mag die Banjo-ukelele-Stilistik von Herrn Danne
 nmayer sehr\, und zusammen mit Ihrer Gitarre ergibt das einige sehr schöne
  Duette\, wie auch bei 'Little Red Hen'.' (Robert Crumb) - Übersetzung mit
  Deepl
DTSTART:20230827T173000Z
DTEND:20230827T173000Z
GEO:00;0
LOCATION:
ORGANIZER:
SEQUENCE:1
SUMMARY:Dannenmayer & Homburger
TRANSP:OPAQUE
URL:https://www.esse.bar/index.php/veranstaltungen/vergangene-veranstaltung
 en/1893-sommerloch-13/2023-08-27-19-30
END:VEVENT
END:VCALENDAR
