BEGIN:VCALENDAR
VERSION:2.0
PRODID:-//ESSE Musicbar Winterthur//NONSGML kigkonsult.se iCalcreator 2.41.92//
CALSCALE:GREGORIAN
METHOD:PUBLISH
UID:30353432-6139-4030-b763-636636653633
X-WR-CALNAME:iCagenda
X-WR-CALDESC:Event Management Extension for Joomla!
X-WR-RELCALID:3E26604A-50F4-4449-8B3E-E4F4932D05B5
X-WR-TIMEZONE:Europe/Zurich
BEGIN:VTIMEZONE
TZID:Europe/Zurich
TZUNTIL:20250330T010000Z
BEGIN:STANDARD
TZNAME:CET
DTSTART:20221030T030000
TZOFFSETFROM:+0200
TZOFFSETTO:+0100
RDATE:20231029T030000
RDATE:20241027T030000
END:STANDARD
BEGIN:DAYLIGHT
TZNAME:CEST
DTSTART:20230326T020000
TZOFFSETFROM:+0100
TZOFFSETTO:+0200
RDATE:20240331T020000
END:DAYLIGHT
END:VTIMEZONE
BEGIN:VEVENT
UID:66326535-6366-4636-b135-326232623862
DTSTAMP:20260419T121203Z
CATEGORIES:Blues
CLASS:PUBLIC
DESCRIPTION;ALTREP="CID:<FFFF__=0ABBE548DFE235B58f9e8a93d@coffeebean.com>":
 Erwartungsvolle Bluesfans werden nie enttäuscht\, wenn sie mit «Pat &amp\;
  The BLUESchargers» eine Schweizer Bluesband erleben\, welche die Anwesend
 en auf eine Reise durch verschiedene Bluesstile mitnimmt. Das abwechslungs
 reiche Repertoire bedient sich jeweils eines weiten Spektrums des Genres –
  erfrischend anders und traditionell zugleich.\nDafür verantwortlich zeich
 nen Patrick Lämmle als Sänger und Gitarrist sowie Chrigi Roffler (Keyboard
 )\, Billy Wirz (Bass) und Hani Ali (Drums). Mit viel Witz und Charme führt
  Pat jeweils durch den Abend und auch seine Mitmusiker sorgen immer wieder
  für Lacher. Die Formation kann deshalb auf eine zunehmend wachsende Fange
 meinde zählen. Die Authentizität der Eigenkompositionen erklärt sich durch
  die Erfahrung und Reife der Musiker. Gepaart mit spürbarer Spielfreude un
 d technischer Fertigkeit\, bietet das Quartett so ein sehr abwechslungsrei
 ches Programm. Interessant und wie aus einem Guss erfreuen aber auch einig
 e ausgesuchte Coversongs die gut gelaunte Zuhörerschaft.\nhttps://www.blue
 schargers.com
DTSTART:20230922T181500Z
DTEND:20230922T181500Z
GEO:00;0
LOCATION:
ORGANIZER:
SEQUENCE:1
SUMMARY:Pat & The BluesChargers
TRANSP:OPAQUE
URL:https://www.esse.bar/index.php/veranstaltungen/vergangene-veranstaltung
 en/1895-pat-the-blueschargers-3/2023-09-22-20-15
END:VEVENT
END:VCALENDAR
